BEGIN:VCALENDAR
VERSION:2.0
PRODID:EVENTFROG//EVENTGROUP//ICAL
BEGIN:VEVENT
UID:20260419T151739Z-7449796224743738250@staging.eventfrog.dev
DTSTAMP:20260419T151739Z
DTSTART:20260429T220000Z
SUMMARY:Kaffee selber machen - werde zum Barista
DESCRIPTION:Lerne im Schnellkurs die perfekte Kaffeezubereitung, vom Rösten bis Milchaufschäumen, und begeistere deine Freunde.\n\nhttps://staging.eventfrog.dev/de/p/essen-trinken/kaffee-selber-machen-werde-zum-barista-7449796224743738250.html
LOCATION:Haus am See
GEO:47.334851;7.842260
URL:https://staging.eventfrog.dev/de/p/essen-trinken/kaffee-selber-machen-werde-zum-barista-7449796224743738250.html
END:VEVENT
BEGIN:VEVENT
UID:20260419T151739Z-7449796328972194288@staging.eventfrog.dev
DTSTAMP:20260419T151739Z
DTSTART:20260506T220000Z
SUMMARY:Kaffee selber machen - werde zum Barista
DESCRIPTION:Lerne im Schnellkurs die perfekte Kaffeezubereitung, vom Rösten bis Milchaufschäumen, und begeistere deine Freunde.\n\nhttps://staging.eventfrog.dev/de/p/essen-trinken/kaffee-selber-machen-werde-zum-barista-7449796328972194288.html
LOCATION:Haus am See
GEO:47.334851;7.842260
URL:https://staging.eventfrog.dev/de/p/essen-trinken/kaffee-selber-machen-werde-zum-barista-7449796328972194288.html
END:VEVENT
END:VCALENDAR