BEGIN:VCALENDAR
VERSION:2.0
PRODID:EVENTFROG//EVENTGROUP//ICAL
BEGIN:VEVENT
UID:20260419T151128Z-7434622070654628631@staging.eventfrog.dev
DTSTAMP:20260419T151128Z
DTSTART:20260401T061500Z
DTEND:20260401T131000Z
SUMMARY:Attraktion erstellen mit Ticketing
DESCRIPTION:Hier wird geprüft: Attraktion erstellen mit Ticketing. Eine einfach Attraktion mit Ticketing aber ohne viel Schnick Schnack und Firlefanz\n\nhttps://staging.eventfrog.dev/de/p/diverses/attraktion-erstellen-mit-ticketing-7434622070654628631.html
LOCATION:Olten 22
GEO:47.350310;7.909900
URL:https://staging.eventfrog.dev/de/p/diverses/attraktion-erstellen-mit-ticketing-7434622070654628631.html
END:VEVENT
BEGIN:VEVENT
UID:20260419T151128Z-7434622070725931801@staging.eventfrog.dev
DTSTAMP:20260419T151128Z
DTSTART:20260403T083000Z
DTEND:20260403T133000Z
SUMMARY:Attraktion erstellen mit Ticketing
DESCRIPTION:Hier wird geprüft: Attraktion erstellen mit Ticketing. Eine einfach Attraktion mit Ticketing aber ohne viel Schnick Schnack und Firlefanz\n\nhttps://staging.eventfrog.dev/de/p/diverses/attraktion-erstellen-mit-ticketing-7434622070725931801.html
LOCATION:Olten 22
GEO:47.350310;7.909900
URL:https://staging.eventfrog.dev/de/p/diverses/attraktion-erstellen-mit-ticketing-7434622070725931801.html
END:VEVENT
BEGIN:VEVENT
UID:20260419T151128Z-7434622070788846363@staging.eventfrog.dev
DTSTAMP:20260419T151128Z
DTSTART:20260406T061500Z
DTEND:20260406T081500Z
SUMMARY:Attraktion erstellen mit Ticketing
DESCRIPTION:Hier wird geprüft: Attraktion erstellen mit Ticketing. Eine einfach Attraktion mit Ticketing aber ohne viel Schnick Schnack und Firlefanz\n\nhttps://staging.eventfrog.dev/de/p/diverses/attraktion-erstellen-mit-ticketing-7434622070788846363.html
LOCATION:Olten 22
GEO:47.350310;7.909900
URL:https://staging.eventfrog.dev/de/p/diverses/attraktion-erstellen-mit-ticketing-7434622070788846363.html
END:VEVENT
BEGIN:VEVENT
UID:20260419T151128Z-7434622070851760925@staging.eventfrog.dev
DTSTAMP:20260419T151128Z
DTSTART:20260408T061500Z
DTEND:20260408T131000Z
SUMMARY:Attraktion erstellen mit Ticketing
DESCRIPTION:Hier wird geprüft: Attraktion erstellen mit Ticketing. Eine einfach Attraktion mit Ticketing aber ohne viel Schnick Schnack und Firlefanz\n\nhttps://staging.eventfrog.dev/de/p/diverses/attraktion-erstellen-mit-ticketing-7434622070851760925.html
LOCATION:Olten 22
GEO:47.350310;7.909900
URL:https://staging.eventfrog.dev/de/p/diverses/attraktion-erstellen-mit-ticketing-7434622070851760925.html
END:VEVENT
BEGIN:VEVENT
UID:20260419T151128Z-7434622070914675487@staging.eventfrog.dev
DTSTAMP:20260419T151128Z
DTSTART:20260410T083000Z
DTEND:20260410T133000Z
SUMMARY:Attraktion erstellen mit Ticketing
DESCRIPTION:Hier wird geprüft: Attraktion erstellen mit Ticketing. Eine einfach Attraktion mit Ticketing aber ohne viel Schnick Schnack und Firlefanz\n\nhttps://staging.eventfrog.dev/de/p/diverses/attraktion-erstellen-mit-ticketing-7434622070914675487.html
LOCATION:Olten 22
GEO:47.350310;7.909900
URL:https://staging.eventfrog.dev/de/p/diverses/attraktion-erstellen-mit-ticketing-7434622070914675487.html
END:VEVENT
BEGIN:VEVENT
UID:20260419T151128Z-7434622070977590049@staging.eventfrog.dev
DTSTAMP:20260419T151128Z
DTSTART:20260413T061500Z
DTEND:20260413T081500Z
SUMMARY:Attraktion erstellen mit Ticketing
DESCRIPTION:Hier wird geprüft: Attraktion erstellen mit Ticketing. Eine einfach Attraktion mit Ticketing aber ohne viel Schnick Schnack und Firlefanz\n\nhttps://staging.eventfrog.dev/de/p/diverses/attraktion-erstellen-mit-ticketing-7434622070977590049.html
LOCATION:Olten 22
GEO:47.350310;7.909900
URL:https://staging.eventfrog.dev/de/p/diverses/attraktion-erstellen-mit-ticketing-7434622070977590049.html
END:VEVENT
BEGIN:VEVENT
UID:20260419T151128Z-7434622071040504611@staging.eventfrog.dev
DTSTAMP:20260419T151128Z
DTSTART:20260415T061500Z
DTEND:20260415T131000Z
SUMMARY:Attraktion erstellen mit Ticketing
DESCRIPTION:Hier wird geprüft: Attraktion erstellen mit Ticketing. Eine einfach Attraktion mit Ticketing aber ohne viel Schnick Schnack und Firlefanz\n\nhttps://staging.eventfrog.dev/de/p/diverses/attraktion-erstellen-mit-ticketing-7434622071040504611.html
LOCATION:Olten 22
GEO:47.350310;7.909900
URL:https://staging.eventfrog.dev/de/p/diverses/attraktion-erstellen-mit-ticketing-7434622071040504611.html
END:VEVENT
BEGIN:VEVENT
UID:20260419T151128Z-7434622071111807781@staging.eventfrog.dev
DTSTAMP:20260419T151128Z
DTSTART:20260417T083000Z
DTEND:20260417T133000Z
SUMMARY:Attraktion erstellen mit Ticketing
DESCRIPTION:Hier wird geprüft: Attraktion erstellen mit Ticketing. Eine einfach Attraktion mit Ticketing aber ohne viel Schnick Schnack und Firlefanz\n\nhttps://staging.eventfrog.dev/de/p/diverses/attraktion-erstellen-mit-ticketing-7434622071111807781.html
LOCATION:Olten 22
GEO:47.350310;7.909900
URL:https://staging.eventfrog.dev/de/p/diverses/attraktion-erstellen-mit-ticketing-7434622071111807781.html
END:VEVENT
BEGIN:VEVENT
UID:20260419T151128Z-7434622071174722343@staging.eventfrog.dev
DTSTAMP:20260419T151128Z
DTSTART:20260420T061500Z
DTEND:20260420T081500Z
SUMMARY:Attraktion erstellen mit Ticketing
DESCRIPTION:Hier wird geprüft: Attraktion erstellen mit Ticketing. Eine einfach Attraktion mit Ticketing aber ohne viel Schnick Schnack und Firlefanz\n\nhttps://staging.eventfrog.dev/de/p/diverses/attraktion-erstellen-mit-ticketing-7434622071174722343.html
LOCATION:Olten 22
GEO:47.350310;7.909900
URL:https://staging.eventfrog.dev/de/p/diverses/attraktion-erstellen-mit-ticketing-7434622071174722343.html
END:VEVENT
BEGIN:VEVENT
UID:20260419T151128Z-7434622071241831209@staging.eventfrog.dev
DTSTAMP:20260419T151128Z
DTSTART:20260422T061500Z
DTEND:20260422T131000Z
SUMMARY:Attraktion erstellen mit Ticketing
DESCRIPTION:Hier wird geprüft: Attraktion erstellen mit Ticketing. Eine einfach Attraktion mit Ticketing aber ohne viel Schnick Schnack und Firlefanz\n\nhttps://staging.eventfrog.dev/de/p/diverses/attraktion-erstellen-mit-ticketing-7434622071241831209.html
LOCATION:Olten 22
GEO:47.350310;7.909900
URL:https://staging.eventfrog.dev/de/p/diverses/attraktion-erstellen-mit-ticketing-7434622071241831209.html
END:VEVENT
BEGIN:VEVENT
UID:20260419T151128Z-7434622071304745771@staging.eventfrog.dev
DTSTAMP:20260419T151128Z
DTSTART:20260424T083000Z
DTEND:20260424T133000Z
SUMMARY:Attraktion erstellen mit Ticketing
DESCRIPTION:Hier wird geprüft: Attraktion erstellen mit Ticketing. Eine einfach Attraktion mit Ticketing aber ohne viel Schnick Schnack und Firlefanz\n\nhttps://staging.eventfrog.dev/de/p/diverses/attraktion-erstellen-mit-ticketing-7434622071304745771.html
LOCATION:Olten 22
GEO:47.350310;7.909900
URL:https://staging.eventfrog.dev/de/p/diverses/attraktion-erstellen-mit-ticketing-7434622071304745771.html
END:VEVENT
BEGIN:VEVENT
UID:20260419T151128Z-7434622071363466029@staging.eventfrog.dev
DTSTAMP:20260419T151128Z
DTSTART:20260427T061500Z
DTEND:20260427T081500Z
SUMMARY:Attraktion erstellen mit Ticketing
DESCRIPTION:Hier wird geprüft: Attraktion erstellen mit Ticketing. Eine einfach Attraktion mit Ticketing aber ohne viel Schnick Schnack und Firlefanz\n\nhttps://staging.eventfrog.dev/de/p/diverses/attraktion-erstellen-mit-ticketing-7434622071363466029.html
LOCATION:Olten 22
GEO:47.350310;7.909900
URL:https://staging.eventfrog.dev/de/p/diverses/attraktion-erstellen-mit-ticketing-7434622071363466029.html
END:VEVENT
BEGIN:VEVENT
UID:20260419T151128Z-7434622071644484399@staging.eventfrog.dev
DTSTAMP:20260419T151128Z
DTSTART:20260429T061500Z
DTEND:20260429T131000Z
SUMMARY:Attraktion erstellen mit Ticketing
DESCRIPTION:Hier wird geprüft: Attraktion erstellen mit Ticketing. Eine einfach Attraktion mit Ticketing aber ohne viel Schnick Schnack und Firlefanz\n\nhttps://staging.eventfrog.dev/de/p/diverses/attraktion-erstellen-mit-ticketing-7434622071644484399.html
LOCATION:Olten 22
GEO:47.350310;7.909900
URL:https://staging.eventfrog.dev/de/p/diverses/attraktion-erstellen-mit-ticketing-7434622071644484399.html
END:VEVENT
BEGIN:VEVENT
UID:20260419T151128Z-7434622071715787569@staging.eventfrog.dev
DTSTAMP:20260419T151128Z
DTSTART:20260501T083000Z
DTEND:20260501T133000Z
SUMMARY:Attraktion erstellen mit Ticketing
DESCRIPTION:Hier wird geprüft: Attraktion erstellen mit Ticketing. Eine einfach Attraktion mit Ticketing aber ohne viel Schnick Schnack und Firlefanz\n\nhttps://staging.eventfrog.dev/de/p/diverses/attraktion-erstellen-mit-ticketing-7434622071715787569.html
LOCATION:Olten 22
GEO:47.350310;7.909900
URL:https://staging.eventfrog.dev/de/p/diverses/attraktion-erstellen-mit-ticketing-7434622071715787569.html
END:VEVENT
BEGIN:VEVENT
UID:20260419T151128Z-7434622071774507827@staging.eventfrog.dev
DTSTAMP:20260419T151128Z
DTSTART:20260504T061500Z
DTEND:20260504T081500Z
SUMMARY:Attraktion erstellen mit Ticketing
DESCRIPTION:Hier wird geprüft: Attraktion erstellen mit Ticketing. Eine einfach Attraktion mit Ticketing aber ohne viel Schnick Schnack und Firlefanz\n\nhttps://staging.eventfrog.dev/de/p/diverses/attraktion-erstellen-mit-ticketing-7434622071774507827.html
LOCATION:Olten 22
GEO:47.350310;7.909900
URL:https://staging.eventfrog.dev/de/p/diverses/attraktion-erstellen-mit-ticketing-7434622071774507827.html
END:VEVENT
BEGIN:VEVENT
UID:20260419T151128Z-7434622071841616693@staging.eventfrog.dev
DTSTAMP:20260419T151128Z
DTSTART:20260506T061500Z
DTEND:20260506T131000Z
SUMMARY:Attraktion erstellen mit Ticketing
DESCRIPTION:Hier wird geprüft: Attraktion erstellen mit Ticketing. Eine einfach Attraktion mit Ticketing aber ohne viel Schnick Schnack und Firlefanz\n\nhttps://staging.eventfrog.dev/de/p/diverses/attraktion-erstellen-mit-ticketing-7434622071841616693.html
LOCATION:Olten 22
GEO:47.350310;7.909900
URL:https://staging.eventfrog.dev/de/p/diverses/attraktion-erstellen-mit-ticketing-7434622071841616693.html
END:VEVENT
BEGIN:VEVENT
UID:20260419T151128Z-7434622071904531255@staging.eventfrog.dev
DTSTAMP:20260419T151128Z
DTSTART:20260508T083000Z
DTEND:20260508T133000Z
SUMMARY:Attraktion erstellen mit Ticketing
DESCRIPTION:Hier wird geprüft: Attraktion erstellen mit Ticketing. Eine einfach Attraktion mit Ticketing aber ohne viel Schnick Schnack und Firlefanz\n\nhttps://staging.eventfrog.dev/de/p/diverses/attraktion-erstellen-mit-ticketing-7434622071904531255.html
LOCATION:Olten 22
GEO:47.350310;7.909900
URL:https://staging.eventfrog.dev/de/p/diverses/attraktion-erstellen-mit-ticketing-7434622071904531255.html
END:VEVENT
BEGIN:VEVENT
UID:20260419T151128Z-7434622071967445817@staging.eventfrog.dev
DTSTAMP:20260419T151128Z
DTSTART:20260511T061500Z
DTEND:20260511T081500Z
SUMMARY:Attraktion erstellen mit Ticketing
DESCRIPTION:Hier wird geprüft: Attraktion erstellen mit Ticketing. Eine einfach Attraktion mit Ticketing aber ohne viel Schnick Schnack und Firlefanz\n\nhttps://staging.eventfrog.dev/de/p/diverses/attraktion-erstellen-mit-ticketing-7434622071967445817.html
LOCATION:Olten 22
GEO:47.350310;7.909900
URL:https://staging.eventfrog.dev/de/p/diverses/attraktion-erstellen-mit-ticketing-7434622071967445817.html
END:VEVENT
BEGIN:VEVENT
UID:20260419T151128Z-7434622072034554683@staging.eventfrog.dev
DTSTAMP:20260419T151128Z
DTSTART:20260513T061500Z
DTEND:20260513T131000Z
SUMMARY:Attraktion erstellen mit Ticketing
DESCRIPTION:Hier wird geprüft: Attraktion erstellen mit Ticketing. Eine einfach Attraktion mit Ticketing aber ohne viel Schnick Schnack und Firlefanz\n\nhttps://staging.eventfrog.dev/de/p/diverses/attraktion-erstellen-mit-ticketing-7434622072034554683.html
LOCATION:Olten 22
GEO:47.350310;7.909900
URL:https://staging.eventfrog.dev/de/p/diverses/attraktion-erstellen-mit-ticketing-7434622072034554683.html
END:VEVENT
BEGIN:VEVENT
UID:20260419T151128Z-7434622072110052157@staging.eventfrog.dev
DTSTAMP:20260419T151128Z
DTSTART:20260515T083000Z
DTEND:20260515T133000Z
SUMMARY:Attraktion erstellen mit Ticketing
DESCRIPTION:Hier wird geprüft: Attraktion erstellen mit Ticketing. Eine einfach Attraktion mit Ticketing aber ohne viel Schnick Schnack und Firlefanz\n\nhttps://staging.eventfrog.dev/de/p/diverses/attraktion-erstellen-mit-ticketing-7434622072110052157.html
LOCATION:Olten 22
GEO:47.350310;7.909900
URL:https://staging.eventfrog.dev/de/p/diverses/attraktion-erstellen-mit-ticketing-7434622072110052157.html
END:VEVENT
BEGIN:VEVENT
UID:20260419T151128Z-7434622072185549631@staging.eventfrog.dev
DTSTAMP:20260419T151128Z
DTSTART:20260518T061500Z
DTEND:20260518T081500Z
SUMMARY:Attraktion erstellen mit Ticketing
DESCRIPTION:Hier wird geprüft: Attraktion erstellen mit Ticketing. Eine einfach Attraktion mit Ticketing aber ohne viel Schnick Schnack und Firlefanz\n\nhttps://staging.eventfrog.dev/de/p/diverses/attraktion-erstellen-mit-ticketing-7434622072185549631.html
LOCATION:Olten 22
GEO:47.350310;7.909900
URL:https://staging.eventfrog.dev/de/p/diverses/attraktion-erstellen-mit-ticketing-7434622072185549631.html
END:VEVENT
BEGIN:VEVENT
UID:20260419T151128Z-7434622072256852801@staging.eventfrog.dev
DTSTAMP:20260419T151128Z
DTSTART:20260520T061500Z
DTEND:20260520T131000Z
SUMMARY:Attraktion erstellen mit Ticketing
DESCRIPTION:Hier wird geprüft: Attraktion erstellen mit Ticketing. Eine einfach Attraktion mit Ticketing aber ohne viel Schnick Schnack und Firlefanz\n\nhttps://staging.eventfrog.dev/de/p/diverses/attraktion-erstellen-mit-ticketing-7434622072256852801.html
LOCATION:Olten 22
GEO:47.350310;7.909900
URL:https://staging.eventfrog.dev/de/p/diverses/attraktion-erstellen-mit-ticketing-7434622072256852801.html
END:VEVENT
BEGIN:VEVENT
UID:20260419T151128Z-7434622072323961667@staging.eventfrog.dev
DTSTAMP:20260419T151128Z
DTSTART:20260522T083000Z
DTEND:20260522T133000Z
SUMMARY:Attraktion erstellen mit Ticketing
DESCRIPTION:Hier wird geprüft: Attraktion erstellen mit Ticketing. Eine einfach Attraktion mit Ticketing aber ohne viel Schnick Schnack und Firlefanz\n\nhttps://staging.eventfrog.dev/de/p/diverses/attraktion-erstellen-mit-ticketing-7434622072323961667.html
LOCATION:Olten 22
GEO:47.350310;7.909900
URL:https://staging.eventfrog.dev/de/p/diverses/attraktion-erstellen-mit-ticketing-7434622072323961667.html
END:VEVENT
BEGIN:VEVENT
UID:20260419T151128Z-7434622072391070533@staging.eventfrog.dev
DTSTAMP:20260419T151128Z
DTSTART:20260525T061500Z
DTEND:20260525T081500Z
SUMMARY:Attraktion erstellen mit Ticketing
DESCRIPTION:Hier wird geprüft: Attraktion erstellen mit Ticketing. Eine einfach Attraktion mit Ticketing aber ohne viel Schnick Schnack und Firlefanz\n\nhttps://staging.eventfrog.dev/de/p/diverses/attraktion-erstellen-mit-ticketing-7434622072391070533.html
LOCATION:Olten 22
GEO:47.350310;7.909900
URL:https://staging.eventfrog.dev/de/p/diverses/attraktion-erstellen-mit-ticketing-7434622072391070533.html
END:VEVENT
BEGIN:VEVENT
UID:20260419T151128Z-7434622072458179399@staging.eventfrog.dev
DTSTAMP:20260419T151128Z
DTSTART:20260527T061500Z
DTEND:20260527T131000Z
SUMMARY:Attraktion erstellen mit Ticketing
DESCRIPTION:Hier wird geprüft: Attraktion erstellen mit Ticketing. Eine einfach Attraktion mit Ticketing aber ohne viel Schnick Schnack und Firlefanz\n\nhttps://staging.eventfrog.dev/de/p/diverses/attraktion-erstellen-mit-ticketing-7434622072458179399.html
LOCATION:Olten 22
GEO:47.350310;7.909900
URL:https://staging.eventfrog.dev/de/p/diverses/attraktion-erstellen-mit-ticketing-7434622072458179399.html
END:VEVENT
BEGIN:VEVENT
UID:20260419T151128Z-7434622072525288265@staging.eventfrog.dev
DTSTAMP:20260419T151128Z
DTSTART:20260529T083000Z
DTEND:20260529T133000Z
SUMMARY:Attraktion erstellen mit Ticketing
DESCRIPTION:Hier wird geprüft: Attraktion erstellen mit Ticketing. Eine einfach Attraktion mit Ticketing aber ohne viel Schnick Schnack und Firlefanz\n\nhttps://staging.eventfrog.dev/de/p/diverses/attraktion-erstellen-mit-ticketing-7434622072525288265.html
LOCATION:Olten 22
GEO:47.350310;7.909900
URL:https://staging.eventfrog.dev/de/p/diverses/attraktion-erstellen-mit-ticketing-7434622072525288265.html
END:VEVENT
END:VCALENDAR