BEGIN:VCALENDAR
VERSION:2.0
PRODID:EVENTFROG//EVENTGROUP//ICAL
BEGIN:VEVENT
UID:20260419T151743Z-7431698162695605587@staging.eventfrog.dev
DTSTAMP:20260419T151743Z
DTSTART:20260223T070000Z
DTEND:20260223T110000Z
SUMMARY:Die Nacht des Flimmernden Popcornzaubers
DESCRIPTION:Das Wanderkino Lumenia lädt zu einer einmaligen Sommernacht mit filmischen Illusionen, Popcorn und Begegnungen mit Kinofiguren ein.\n\nhttps://staging.eventfrog.dev/de/p/essen-trinken/die-nacht-des-flimmernden-popcornzaubers-7431698162695605587.html
LOCATION:Kunstmuseum Bern
GEO:46.951000;7.443570
URL:https://staging.eventfrog.dev/de/p/essen-trinken/die-nacht-des-flimmernden-popcornzaubers-7431698162695605587.html
END:VEVENT
BEGIN:VEVENT
UID:20260419T151743Z-7431698162766908757@staging.eventfrog.dev
DTSTAMP:20260419T151743Z
DTSTART:20260224T080000Z
DTEND:20260224T120000Z
SUMMARY:Die Nacht des Flimmernden Popcornzaubers
DESCRIPTION:Das Wanderkino Lumenia lädt zu einer einmaligen Sommernacht mit filmischen Illusionen, Popcorn und Begegnungen mit Kinofiguren ein.\n\nhttps://staging.eventfrog.dev/de/p/essen-trinken/die-nacht-des-flimmernden-popcornzaubers-7431698162766908757.html
LOCATION:Kunstmuseum Bern
GEO:46.951000;7.443570
URL:https://staging.eventfrog.dev/de/p/essen-trinken/die-nacht-des-flimmernden-popcornzaubers-7431698162766908757.html
END:VEVENT
BEGIN:VEVENT
UID:20260419T151743Z-7431698162838211927@staging.eventfrog.dev
DTSTAMP:20260419T151743Z
DTSTART:20260225T090000Z
DTEND:20260225T140000Z
SUMMARY:Die Nacht des Flimmernden Popcornzaubers
DESCRIPTION:Das Wanderkino Lumenia lädt zu einer einmaligen Sommernacht mit filmischen Illusionen, Popcorn und Begegnungen mit Kinofiguren ein.\n\nhttps://staging.eventfrog.dev/de/p/essen-trinken/die-nacht-des-flimmernden-popcornzaubers-7431698162838211927.html
LOCATION:Kunstmuseum Bern
GEO:46.951000;7.443570
URL:https://staging.eventfrog.dev/de/p/essen-trinken/die-nacht-des-flimmernden-popcornzaubers-7431698162838211927.html
END:VEVENT
BEGIN:VEVENT
UID:20260419T151743Z-7431698162917903705@staging.eventfrog.dev
DTSTAMP:20260419T151743Z
DTSTART:20260302T070000Z
DTEND:20260302T110000Z
SUMMARY:Die Nacht des Flimmernden Popcornzaubers
DESCRIPTION:Das Wanderkino Lumenia lädt zu einer einmaligen Sommernacht mit filmischen Illusionen, Popcorn und Begegnungen mit Kinofiguren ein.\n\nhttps://staging.eventfrog.dev/de/p/essen-trinken/die-nacht-des-flimmernden-popcornzaubers-7431698162917903705.html
LOCATION:Kunstmuseum Bern
GEO:46.951000;7.443570
URL:https://staging.eventfrog.dev/de/p/essen-trinken/die-nacht-des-flimmernden-popcornzaubers-7431698162917903705.html
END:VEVENT
BEGIN:VEVENT
UID:20260419T151743Z-7431698162989206875@staging.eventfrog.dev
DTSTAMP:20260419T151743Z
DTSTART:20260303T080000Z
DTEND:20260303T120000Z
SUMMARY:Die Nacht des Flimmernden Popcornzaubers
DESCRIPTION:Das Wanderkino Lumenia lädt zu einer einmaligen Sommernacht mit filmischen Illusionen, Popcorn und Begegnungen mit Kinofiguren ein.\n\nhttps://staging.eventfrog.dev/de/p/essen-trinken/die-nacht-des-flimmernden-popcornzaubers-7431698162989206875.html
LOCATION:Kunstmuseum Bern
GEO:46.951000;7.443570
URL:https://staging.eventfrog.dev/de/p/essen-trinken/die-nacht-des-flimmernden-popcornzaubers-7431698162989206875.html
END:VEVENT
BEGIN:VEVENT
UID:20260419T151743Z-7431698163060510045@staging.eventfrog.dev
DTSTAMP:20260419T151743Z
DTSTART:20260304T090000Z
DTEND:20260304T140000Z
SUMMARY:Die Nacht des Flimmernden Popcornzaubers
DESCRIPTION:Das Wanderkino Lumenia lädt zu einer einmaligen Sommernacht mit filmischen Illusionen, Popcorn und Begegnungen mit Kinofiguren ein.\n\nhttps://staging.eventfrog.dev/de/p/essen-trinken/die-nacht-des-flimmernden-popcornzaubers-7431698163060510045.html
LOCATION:Kunstmuseum Bern
GEO:46.951000;7.443570
URL:https://staging.eventfrog.dev/de/p/essen-trinken/die-nacht-des-flimmernden-popcornzaubers-7431698163060510045.html
END:VEVENT
BEGIN:VEVENT
UID:20260419T151743Z-7431698163127618911@staging.eventfrog.dev
DTSTAMP:20260419T151743Z
DTSTART:20260309T070000Z
DTEND:20260309T110000Z
SUMMARY:Die Nacht des Flimmernden Popcornzaubers
DESCRIPTION:Das Wanderkino Lumenia lädt zu einer einmaligen Sommernacht mit filmischen Illusionen, Popcorn und Begegnungen mit Kinofiguren ein.\n\nhttps://staging.eventfrog.dev/de/p/essen-trinken/die-nacht-des-flimmernden-popcornzaubers-7431698163127618911.html
LOCATION:Kunstmuseum Bern
GEO:46.951000;7.443570
URL:https://staging.eventfrog.dev/de/p/essen-trinken/die-nacht-des-flimmernden-popcornzaubers-7431698163127618911.html
END:VEVENT
BEGIN:VEVENT
UID:20260419T151743Z-7431698163194727777@staging.eventfrog.dev
DTSTAMP:20260419T151743Z
DTSTART:20260310T080000Z
DTEND:20260310T120000Z
SUMMARY:Die Nacht des Flimmernden Popcornzaubers
DESCRIPTION:Das Wanderkino Lumenia lädt zu einer einmaligen Sommernacht mit filmischen Illusionen, Popcorn und Begegnungen mit Kinofiguren ein.\n\nhttps://staging.eventfrog.dev/de/p/essen-trinken/die-nacht-des-flimmernden-popcornzaubers-7431698163194727777.html
LOCATION:Kunstmuseum Bern
GEO:46.951000;7.443570
URL:https://staging.eventfrog.dev/de/p/essen-trinken/die-nacht-des-flimmernden-popcornzaubers-7431698163194727777.html
END:VEVENT
BEGIN:VEVENT
UID:20260419T151743Z-7431698163257642339@staging.eventfrog.dev
DTSTAMP:20260419T151743Z
DTSTART:20260311T090000Z
DTEND:20260311T140000Z
SUMMARY:Die Nacht des Flimmernden Popcornzaubers
DESCRIPTION:Das Wanderkino Lumenia lädt zu einer einmaligen Sommernacht mit filmischen Illusionen, Popcorn und Begegnungen mit Kinofiguren ein.\n\nhttps://staging.eventfrog.dev/de/p/essen-trinken/die-nacht-des-flimmernden-popcornzaubers-7431698163257642339.html
LOCATION:Kunstmuseum Bern
GEO:46.951000;7.443570
URL:https://staging.eventfrog.dev/de/p/essen-trinken/die-nacht-des-flimmernden-popcornzaubers-7431698163257642339.html
END:VEVENT
BEGIN:VEVENT
UID:20260419T151743Z-7431698163324751205@staging.eventfrog.dev
DTSTAMP:20260419T151743Z
DTSTART:20260316T070000Z
DTEND:20260316T110000Z
SUMMARY:Die Nacht des Flimmernden Popcornzaubers
DESCRIPTION:Das Wanderkino Lumenia lädt zu einer einmaligen Sommernacht mit filmischen Illusionen, Popcorn und Begegnungen mit Kinofiguren ein.\n\nhttps://staging.eventfrog.dev/de/p/essen-trinken/die-nacht-des-flimmernden-popcornzaubers-7431698163324751205.html
LOCATION:Kunstmuseum Bern
GEO:46.951000;7.443570
URL:https://staging.eventfrog.dev/de/p/essen-trinken/die-nacht-des-flimmernden-popcornzaubers-7431698163324751205.html
END:VEVENT
BEGIN:VEVENT
UID:20260419T151743Z-7431698163391860071@staging.eventfrog.dev
DTSTAMP:20260419T151743Z
DTSTART:20260317T080000Z
DTEND:20260317T120000Z
SUMMARY:Die Nacht des Flimmernden Popcornzaubers
DESCRIPTION:Das Wanderkino Lumenia lädt zu einer einmaligen Sommernacht mit filmischen Illusionen, Popcorn und Begegnungen mit Kinofiguren ein.\n\nhttps://staging.eventfrog.dev/de/p/essen-trinken/die-nacht-des-flimmernden-popcornzaubers-7431698163391860071.html
LOCATION:Kunstmuseum Bern
GEO:46.951000;7.443570
URL:https://staging.eventfrog.dev/de/p/essen-trinken/die-nacht-des-flimmernden-popcornzaubers-7431698163391860071.html
END:VEVENT
BEGIN:VEVENT
UID:20260419T151743Z-7431698163458968937@staging.eventfrog.dev
DTSTAMP:20260419T151743Z
DTSTART:20260318T090000Z
DTEND:20260318T140000Z
SUMMARY:Die Nacht des Flimmernden Popcornzaubers
DESCRIPTION:Das Wanderkino Lumenia lädt zu einer einmaligen Sommernacht mit filmischen Illusionen, Popcorn und Begegnungen mit Kinofiguren ein.\n\nhttps://staging.eventfrog.dev/de/p/essen-trinken/die-nacht-des-flimmernden-popcornzaubers-7431698163458968937.html
LOCATION:Kunstmuseum Bern
GEO:46.951000;7.443570
URL:https://staging.eventfrog.dev/de/p/essen-trinken/die-nacht-des-flimmernden-popcornzaubers-7431698163458968937.html
END:VEVENT
BEGIN:VEVENT
UID:20260419T151743Z-7431698163534466411@staging.eventfrog.dev
DTSTAMP:20260419T151743Z
DTSTART:20260323T070000Z
DTEND:20260323T110000Z
SUMMARY:Die Nacht des Flimmernden Popcornzaubers
DESCRIPTION:Das Wanderkino Lumenia lädt zu einer einmaligen Sommernacht mit filmischen Illusionen, Popcorn und Begegnungen mit Kinofiguren ein.\n\nhttps://staging.eventfrog.dev/de/p/essen-trinken/die-nacht-des-flimmernden-popcornzaubers-7431698163534466411.html
LOCATION:Kunstmuseum Bern
GEO:46.951000;7.443570
URL:https://staging.eventfrog.dev/de/p/essen-trinken/die-nacht-des-flimmernden-popcornzaubers-7431698163534466411.html
END:VEVENT
BEGIN:VEVENT
UID:20260419T151743Z-7431698163597380973@staging.eventfrog.dev
DTSTAMP:20260419T151743Z
DTSTART:20260324T080000Z
DTEND:20260324T120000Z
SUMMARY:Die Nacht des Flimmernden Popcornzaubers
DESCRIPTION:Das Wanderkino Lumenia lädt zu einer einmaligen Sommernacht mit filmischen Illusionen, Popcorn und Begegnungen mit Kinofiguren ein.\n\nhttps://staging.eventfrog.dev/de/p/essen-trinken/die-nacht-des-flimmernden-popcornzaubers-7431698163597380973.html
LOCATION:Kunstmuseum Bern
GEO:46.951000;7.443570
URL:https://staging.eventfrog.dev/de/p/essen-trinken/die-nacht-des-flimmernden-popcornzaubers-7431698163597380973.html
END:VEVENT
BEGIN:VEVENT
UID:20260419T151743Z-7431698163660295535@staging.eventfrog.dev
DTSTAMP:20260419T151743Z
DTSTART:20260325T090000Z
DTEND:20260325T140000Z
SUMMARY:Die Nacht des Flimmernden Popcornzaubers
DESCRIPTION:Das Wanderkino Lumenia lädt zu einer einmaligen Sommernacht mit filmischen Illusionen, Popcorn und Begegnungen mit Kinofiguren ein.\n\nhttps://staging.eventfrog.dev/de/p/essen-trinken/die-nacht-des-flimmernden-popcornzaubers-7431698163660295535.html
LOCATION:Kunstmuseum Bern
GEO:46.951000;7.443570
URL:https://staging.eventfrog.dev/de/p/essen-trinken/die-nacht-des-flimmernden-popcornzaubers-7431698163660295535.html
END:VEVENT
BEGIN:VEVENT
UID:20260419T151743Z-7431698163727404401@staging.eventfrog.dev
DTSTAMP:20260419T151743Z
DTSTART:20260330T060000Z
DTEND:20260330T100000Z
SUMMARY:Die Nacht des Flimmernden Popcornzaubers
DESCRIPTION:Das Wanderkino Lumenia lädt zu einer einmaligen Sommernacht mit filmischen Illusionen, Popcorn und Begegnungen mit Kinofiguren ein.\n\nhttps://staging.eventfrog.dev/de/p/essen-trinken/die-nacht-des-flimmernden-popcornzaubers-7431698163727404401.html
LOCATION:Kunstmuseum Bern
GEO:46.951000;7.443570
URL:https://staging.eventfrog.dev/de/p/essen-trinken/die-nacht-des-flimmernden-popcornzaubers-7431698163727404401.html
END:VEVENT
BEGIN:VEVENT
UID:20260419T151743Z-7431698163794513267@staging.eventfrog.dev
DTSTAMP:20260419T151743Z
DTSTART:20260331T070000Z
DTEND:20260331T110000Z
SUMMARY:Die Nacht des Flimmernden Popcornzaubers
DESCRIPTION:Das Wanderkino Lumenia lädt zu einer einmaligen Sommernacht mit filmischen Illusionen, Popcorn und Begegnungen mit Kinofiguren ein.\n\nhttps://staging.eventfrog.dev/de/p/essen-trinken/die-nacht-des-flimmernden-popcornzaubers-7431698163794513267.html
LOCATION:Kunstmuseum Bern
GEO:46.951000;7.443570
URL:https://staging.eventfrog.dev/de/p/essen-trinken/die-nacht-des-flimmernden-popcornzaubers-7431698163794513267.html
END:VEVENT
BEGIN:VEVENT
UID:20260419T151743Z-7431698163857427829@staging.eventfrog.dev
DTSTAMP:20260419T151743Z
DTSTART:20260401T080000Z
DTEND:20260401T130000Z
SUMMARY:Die Nacht des Flimmernden Popcornzaubers
DESCRIPTION:Das Wanderkino Lumenia lädt zu einer einmaligen Sommernacht mit filmischen Illusionen, Popcorn und Begegnungen mit Kinofiguren ein.\n\nhttps://staging.eventfrog.dev/de/p/essen-trinken/die-nacht-des-flimmernden-popcornzaubers-7431698163857427829.html
LOCATION:Kunstmuseum Bern
GEO:46.951000;7.443570
URL:https://staging.eventfrog.dev/de/p/essen-trinken/die-nacht-des-flimmernden-popcornzaubers-7431698163857427829.html
END:VEVENT
BEGIN:VEVENT
UID:20260419T151743Z-7431698163924536695@staging.eventfrog.dev
DTSTAMP:20260419T151743Z
DTSTART:20260406T060000Z
DTEND:20260406T100000Z
SUMMARY:Die Nacht des Flimmernden Popcornzaubers
DESCRIPTION:Das Wanderkino Lumenia lädt zu einer einmaligen Sommernacht mit filmischen Illusionen, Popcorn und Begegnungen mit Kinofiguren ein.\n\nhttps://staging.eventfrog.dev/de/p/essen-trinken/die-nacht-des-flimmernden-popcornzaubers-7431698163924536695.html
LOCATION:Kunstmuseum Bern
GEO:46.951000;7.443570
URL:https://staging.eventfrog.dev/de/p/essen-trinken/die-nacht-des-flimmernden-popcornzaubers-7431698163924536695.html
END:VEVENT
BEGIN:VEVENT
UID:20260419T151743Z-7431698163987451257@staging.eventfrog.dev
DTSTAMP:20260419T151743Z
DTSTART:20260407T070000Z
DTEND:20260407T110000Z
SUMMARY:Die Nacht des Flimmernden Popcornzaubers
DESCRIPTION:Das Wanderkino Lumenia lädt zu einer einmaligen Sommernacht mit filmischen Illusionen, Popcorn und Begegnungen mit Kinofiguren ein.\n\nhttps://staging.eventfrog.dev/de/p/essen-trinken/die-nacht-des-flimmernden-popcornzaubers-7431698163987451257.html
LOCATION:Kunstmuseum Bern
GEO:46.951000;7.443570
URL:https://staging.eventfrog.dev/de/p/essen-trinken/die-nacht-des-flimmernden-popcornzaubers-7431698163987451257.html
END:VEVENT
BEGIN:VEVENT
UID:20260419T151743Z-7431698164054560123@staging.eventfrog.dev
DTSTAMP:20260419T151743Z
DTSTART:20260408T080000Z
DTEND:20260408T130000Z
SUMMARY:Die Nacht des Flimmernden Popcornzaubers
DESCRIPTION:Das Wanderkino Lumenia lädt zu einer einmaligen Sommernacht mit filmischen Illusionen, Popcorn und Begegnungen mit Kinofiguren ein.\n\nhttps://staging.eventfrog.dev/de/p/essen-trinken/die-nacht-des-flimmernden-popcornzaubers-7431698164054560123.html
LOCATION:Kunstmuseum Bern
GEO:46.951000;7.443570
URL:https://staging.eventfrog.dev/de/p/essen-trinken/die-nacht-des-flimmernden-popcornzaubers-7431698164054560123.html
END:VEVENT
BEGIN:VEVENT
UID:20260419T151743Z-7431698164125863293@staging.eventfrog.dev
DTSTAMP:20260419T151743Z
DTSTART:20260413T060000Z
DTEND:20260413T100000Z
SUMMARY:Die Nacht des Flimmernden Popcornzaubers
DESCRIPTION:Das Wanderkino Lumenia lädt zu einer einmaligen Sommernacht mit filmischen Illusionen, Popcorn und Begegnungen mit Kinofiguren ein.\n\nhttps://staging.eventfrog.dev/de/p/essen-trinken/die-nacht-des-flimmernden-popcornzaubers-7431698164125863293.html
LOCATION:Kunstmuseum Bern
GEO:46.951000;7.443570
URL:https://staging.eventfrog.dev/de/p/essen-trinken/die-nacht-des-flimmernden-popcornzaubers-7431698164125863293.html
END:VEVENT
BEGIN:VEVENT
UID:20260419T151743Z-7431698164188777855@staging.eventfrog.dev
DTSTAMP:20260419T151743Z
DTSTART:20260414T070000Z
DTEND:20260414T110000Z
SUMMARY:Die Nacht des Flimmernden Popcornzaubers
DESCRIPTION:Das Wanderkino Lumenia lädt zu einer einmaligen Sommernacht mit filmischen Illusionen, Popcorn und Begegnungen mit Kinofiguren ein.\n\nhttps://staging.eventfrog.dev/de/p/essen-trinken/die-nacht-des-flimmernden-popcornzaubers-7431698164188777855.html
LOCATION:Kunstmuseum Bern
GEO:46.951000;7.443570
URL:https://staging.eventfrog.dev/de/p/essen-trinken/die-nacht-des-flimmernden-popcornzaubers-7431698164188777855.html
END:VEVENT
BEGIN:VEVENT
UID:20260419T151743Z-7431698164251692417@staging.eventfrog.dev
DTSTAMP:20260419T151743Z
DTSTART:20260415T080000Z
DTEND:20260415T130000Z
SUMMARY:Die Nacht des Flimmernden Popcornzaubers
DESCRIPTION:Das Wanderkino Lumenia lädt zu einer einmaligen Sommernacht mit filmischen Illusionen, Popcorn und Begegnungen mit Kinofiguren ein.\n\nhttps://staging.eventfrog.dev/de/p/essen-trinken/die-nacht-des-flimmernden-popcornzaubers-7431698164251692417.html
LOCATION:Kunstmuseum Bern
GEO:46.951000;7.443570
URL:https://staging.eventfrog.dev/de/p/essen-trinken/die-nacht-des-flimmernden-popcornzaubers-7431698164251692417.html
END:VEVENT
BEGIN:VEVENT
UID:20260419T151743Z-7431698164318801283@staging.eventfrog.dev
DTSTAMP:20260419T151743Z
DTSTART:20260420T060000Z
DTEND:20260420T100000Z
SUMMARY:Die Nacht des Flimmernden Popcornzaubers
DESCRIPTION:Das Wanderkino Lumenia lädt zu einer einmaligen Sommernacht mit filmischen Illusionen, Popcorn und Begegnungen mit Kinofiguren ein.\n\nhttps://staging.eventfrog.dev/de/p/essen-trinken/die-nacht-des-flimmernden-popcornzaubers-7431698164318801283.html
LOCATION:Kunstmuseum Bern
GEO:46.951000;7.443570
URL:https://staging.eventfrog.dev/de/p/essen-trinken/die-nacht-des-flimmernden-popcornzaubers-7431698164318801283.html
END:VEVENT
BEGIN:VEVENT
UID:20260419T151743Z-7431698164381715845@staging.eventfrog.dev
DTSTAMP:20260419T151743Z
DTSTART:20260421T070000Z
DTEND:20260421T110000Z
SUMMARY:Die Nacht des Flimmernden Popcornzaubers
DESCRIPTION:Das Wanderkino Lumenia lädt zu einer einmaligen Sommernacht mit filmischen Illusionen, Popcorn und Begegnungen mit Kinofiguren ein.\n\nhttps://staging.eventfrog.dev/de/p/essen-trinken/die-nacht-des-flimmernden-popcornzaubers-7431698164381715845.html
LOCATION:Kunstmuseum Bern
GEO:46.951000;7.443570
URL:https://staging.eventfrog.dev/de/p/essen-trinken/die-nacht-des-flimmernden-popcornzaubers-7431698164381715845.html
END:VEVENT
BEGIN:VEVENT
UID:20260419T151743Z-7431698164448824711@staging.eventfrog.dev
DTSTAMP:20260419T151743Z
DTSTART:20260422T080000Z
DTEND:20260422T130000Z
SUMMARY:Die Nacht des Flimmernden Popcornzaubers
DESCRIPTION:Das Wanderkino Lumenia lädt zu einer einmaligen Sommernacht mit filmischen Illusionen, Popcorn und Begegnungen mit Kinofiguren ein.\n\nhttps://staging.eventfrog.dev/de/p/essen-trinken/die-nacht-des-flimmernden-popcornzaubers-7431698164448824711.html
LOCATION:Kunstmuseum Bern
GEO:46.951000;7.443570
URL:https://staging.eventfrog.dev/de/p/essen-trinken/die-nacht-des-flimmernden-popcornzaubers-7431698164448824711.html
END:VEVENT
BEGIN:VEVENT
UID:20260419T151743Z-7431690164438933947@staging.eventfrog.dev
DTSTAMP:20260419T151743Z
DTSTART:20260424T220000Z
SUMMARY:1 Kaffekränzchen im Kino
DESCRIPTION:Das Wanderkino Lumenia entführt in einer Sommernacht mit Popcorn und filmischen Illusionen in eine magische Welt zwischen Realität und Film.\n\nhttps://staging.eventfrog.dev/de/p/essen-trinken/1-kaffekraenzchen-im-kino-7431690164438933947.html
LOCATION:Kunstmuseum Bern
GEO:46.951000;7.443570
URL:https://staging.eventfrog.dev/de/p/essen-trinken/1-kaffekraenzchen-im-kino-7431690164438933947.html
END:VEVENT
BEGIN:VEVENT
UID:20260419T151743Z-7434959561563645644@staging.eventfrog.dev
DTSTAMP:20260419T151743Z
DTSTART:20260425T220000Z
SUMMARY:Kaffekränzchen im Kino
DESCRIPTION:Das Wanderkino Lumenia entführt in einer Sommernacht mit Popcorn und filmischen Illusionen in eine magische Welt zwischen Realität und Film.\n\nhttps://staging.eventfrog.dev/de/p/essen-trinken/kaffekraenzchen-im-kino-7434959561563645644.html
LOCATION:Kunstmuseum Bern
GEO:46.951000;7.443570
URL:https://staging.eventfrog.dev/de/p/essen-trinken/kaffekraenzchen-im-kino-7434959561563645644.html
END:VEVENT
BEGIN:VEVENT
UID:20260419T151743Z-7431698164511739273@staging.eventfrog.dev
DTSTAMP:20260419T151743Z
DTSTART:20260427T060000Z
DTEND:20260427T100000Z
SUMMARY:Die Nacht des Flimmernden Popcornzaubers
DESCRIPTION:Das Wanderkino Lumenia lädt zu einer einmaligen Sommernacht mit filmischen Illusionen, Popcorn und Begegnungen mit Kinofiguren ein.\n\nhttps://staging.eventfrog.dev/de/p/essen-trinken/die-nacht-des-flimmernden-popcornzaubers-7431698164511739273.html
LOCATION:Kunstmuseum Bern
GEO:46.951000;7.443570
URL:https://staging.eventfrog.dev/de/p/essen-trinken/die-nacht-des-flimmernden-popcornzaubers-7431698164511739273.html
END:VEVENT
BEGIN:VEVENT
UID:20260419T151743Z-7431698164578848139@staging.eventfrog.dev
DTSTAMP:20260419T151743Z
DTSTART:20260428T070000Z
DTEND:20260428T110000Z
SUMMARY:Die Nacht des Flimmernden Popcornzaubers
DESCRIPTION:Das Wanderkino Lumenia lädt zu einer einmaligen Sommernacht mit filmischen Illusionen, Popcorn und Begegnungen mit Kinofiguren ein.\n\nhttps://staging.eventfrog.dev/de/p/essen-trinken/die-nacht-des-flimmernden-popcornzaubers-7431698164578848139.html
LOCATION:Kunstmuseum Bern
GEO:46.951000;7.443570
URL:https://staging.eventfrog.dev/de/p/essen-trinken/die-nacht-des-flimmernden-popcornzaubers-7431698164578848139.html
END:VEVENT
BEGIN:VEVENT
UID:20260419T151743Z-7431698164658539917@staging.eventfrog.dev
DTSTAMP:20260419T151743Z
DTSTART:20260429T080000Z
DTEND:20260429T130000Z
SUMMARY:Die Nacht des Flimmernden Popcornzaubers
DESCRIPTION:Das Wanderkino Lumenia lädt zu einer einmaligen Sommernacht mit filmischen Illusionen, Popcorn und Begegnungen mit Kinofiguren ein.\n\nhttps://staging.eventfrog.dev/de/p/essen-trinken/die-nacht-des-flimmernden-popcornzaubers-7431698164658539917.html
LOCATION:Kunstmuseum Bern
GEO:46.951000;7.443570
URL:https://staging.eventfrog.dev/de/p/essen-trinken/die-nacht-des-flimmernden-popcornzaubers-7431698164658539917.html
END:VEVENT
END:VCALENDAR