BEGIN:VCALENDAR
VERSION:2.0
PRODID:EVENTFROG//EVENT//ICAL
BEGIN:VEVENT
UID:20260419T151738Z-7444981735552782333@staging.eventfrog.dev
DTSTAMP:20260419T151738Z
DTSTART:20260630T220000Z
SUMMARY:Gonzales
DESCRIPTION:«Speedy Gonzales» ist eine Figur aus den Warner Bros. Looney Tunes, bekannt als «Die schnellste Maus Mexikos».\n\nhttps://staging.eventfrog.dev/de/p/konzert/hard-rock-heavy-metal/gonzales-7444981735552782333.html
LOCATION:Stadthalle Dietikon ZH
GEO:47.407043;8.386932
URL:https://staging.eventfrog.dev/de/p/konzert/hard-rock-heavy-metal/gonzales-7444981735552782333.html
END:VEVENT
END:VCALENDAR