BEGIN:VCALENDAR
VERSION:2.0
PRODID:EVENTFROG//EVENT//ICAL
BEGIN:VEVENT
UID:20260419T133616Z-7444722400222350851@staging.eventfrog.dev
DTSTAMP:20260419T133616Z
DTSTART:20260428T180000Z
SUMMARY:623149 Froggy prüft: Ticketing-Event, nur Pflichtfelder
DESCRIPTION:Hier prüfen wir, ob die Eventerstellung wie erwartet funktioniert.\n\nhttps://staging.eventfrog.dev/de/p/diverses/623149-froggy-prueft-ticketing-event-nur-pflichtfelder-7444722400222350851.html
LOCATION:oLTEN
GEO:47.352586;7.906871
URL:https://staging.eventfrog.dev/de/p/diverses/623149-froggy-prueft-ticketing-event-nur-pflichtfelder-7444722400222350851.html
END:VEVENT
END:VCALENDAR