BEGIN:VCALENDAR
VERSION:2.0
PRODID:EVENTFROG//EVENT//ICAL
BEGIN:VEVENT
UID:20260419T165332Z-7442503009015518475@staging.eventfrog.dev
DTSTAMP:20260419T165332Z
DTSTART:20260501T220000Z
SUMMARY:Hallenfest
DESCRIPTION:Exploring Career Transition into Business Ownership-How to get started\n\nhttps://staging.eventfrog.dev/de/p/dating/single-party/hallenfest-7442503009015518475.html
LOCATION:Stadthalle Dietikon ZH
GEO:47.407043;8.386932
URL:https://staging.eventfrog.dev/de/p/dating/single-party/hallenfest-7442503009015518475.html
END:VEVENT
END:VCALENDAR