BEGIN:VCALENDAR
VERSION:2.0
PRODID:EVENTFROG//EVENT//ICAL
BEGIN:VEVENT
UID:20260419T164245Z-7439655823558948368@staging.eventfrog.dev
DTSTAMP:20260419T164245Z
DTSTART:20270330T220000Z
SUMMARY:Nicht Season Event
DESCRIPTION:Die Veranstaltung bietet umfassende Einblicke in anspruchsvolle Themen rund um Arbeit und Schmerz.\n\nhttps://staging.eventfrog.dev/de/p/diverses/nicht-season-event-7439655823558948368.html
LOCATION:Eventfrog
GEO:47.350792;7.910131
URL:https://staging.eventfrog.dev/de/p/diverses/nicht-season-event-7439655823558948368.html
END:VEVENT
END:VCALENDAR