BEGIN:VCALENDAR
VERSION:2.0
PRODID:EVENTFROG//EVENT//ICAL
BEGIN:VEVENT
UID:20260419T203409Z-7437485763910261176@staging.eventfrog.dev
DTSTAMP:20260419T203409Z
DTSTART:20271231T190000Z
DTEND:20271231T223000Z
SUMMARY:Datum, Uhrzeit, Türöffnung
DESCRIPTION:Hier wird geprüft, ob Datum, Uhrzeit und Türöffnung wie erwartet funktionieren und entsprechende Regeln greiffen.\n\nhttps://staging.eventfrog.dev/de/p/diverses/datum-uhrzeit-tueroeffnung-7437485763910261176.html
LOCATION:Eventfrog-Büro
GEO:47.350310;7.909900
URL:https://staging.eventfrog.dev/de/p/diverses/datum-uhrzeit-tueroeffnung-7437485763910261176.html
END:VEVENT
END:VCALENDAR