BEGIN:VCALENDAR
VERSION:2.0
PRODID:EVENTFROG//EVENT//ICAL
BEGIN:VEVENT
UID:20260419T164244Z-7435636896826738968@staging.eventfrog.dev
DTSTAMP:20260419T164244Z
DTSTART:20270301T200000Z
DTEND:20270301T213000Z
SUMMARY:Kino-Sushi
DESCRIPTION:Kinoerlebnis mit ausgewähltem Film und unbegrenztem Sushi-Buffet für einen genussvollen Abend in angenehmer Atmosphäre.\n\nhttps://staging.eventfrog.dev/de/p/freizeit-ausfluege/film-kino/kino-sushi-7435636896826738968.html
LOCATION:Stadttheater Olten
GEO:47.351990;7.904446
URL:https://staging.eventfrog.dev/de/p/freizeit-ausfluege/film-kino/kino-sushi-7435636896826738968.html
END:VEVENT
END:VCALENDAR