BEGIN:VCALENDAR
VERSION:2.0
PRODID:EVENTFROG//EVENT//ICAL
BEGIN:VEVENT
UID:20260419T181619Z-7432761773564189322@staging.eventfrog.dev
DTSTAMP:20260419T181619Z
DTSTART:20260430T220000Z
SUMMARY:ölkölk kl joklh ikjuh i
DESCRIPTION:Der Button "Zur Webseite" fehlt im Staging\n\n\nhttps://staging.eventfrog.dev/de/p/essen-trinken/oelkoelk-kl-joklh-ikjuh-i-7432761773564189322.html
LOCATION:Haus am See
GEO:47.334851;7.842260
URL:https://staging.eventfrog.dev/de/p/essen-trinken/oelkoelk-kl-joklh-ikjuh-i-7432761773564189322.html
END:VEVENT
END:VCALENDAR