BEGIN:VCALENDAR
VERSION:2.0
PRODID:EVENTFROG//EVENT//ICAL
BEGIN:VEVENT
UID:20260419T181620Z-7432337728796487234@staging.eventfrog.dev
DTSTAMP:20260419T181620Z
DTSTART:20260725T070900Z
SUMMARY:Der Kaffee ist kaputt
DESCRIPTION:«Der Kaffee ist kaputt - Ich bin immer noch müde» zeigt humorvolle Alltagsgeschichten zum Umgang mit Müdigkeit.\n\nhttps://staging.eventfrog.dev/de/p/essen-trinken/der-kaffee-ist-kaputt-7432337728796487234.html
LOCATION:FHNW Olten
GEO:47.347922;7.907947
URL:https://staging.eventfrog.dev/de/p/essen-trinken/der-kaffee-ist-kaputt-7432337728796487234.html
END:VEVENT
END:VCALENDAR