BEGIN:VCALENDAR
VERSION:2.0
PRODID:EVENTFROG//EVENT//ICAL
BEGIN:VEVENT
UID:20260419T151722Z-7431973483466560364@staging.eventfrog.dev
DTSTAMP:20260419T151722Z
DTSTART:20260423T220000Z
SUMMARY:Mickey Maus
DESCRIPTION:Micky Maus, von Walt Disney und Ub Iwerks geschaffen, ist die bekannteste Zeichentrickfigur weltweit.\n\nhttps://staging.eventfrog.dev/de/p/dating/single-party/mickey-maus-7431973483466560364.html
LOCATION:Stadthalle Dietikon ZH
GEO:47.407043;8.386932
URL:https://staging.eventfrog.dev/de/p/dating/single-party/mickey-maus-7431973483466560364.html
END:VEVENT
END:VCALENDAR