BEGIN:VCALENDAR
VERSION:2.0
PRODID:EVENTFROG//EVENT//ICAL
BEGIN:VEVENT
UID:20260419T165331Z-7431698164381715845@staging.eventfrog.dev
DTSTAMP:20260419T165331Z
DTSTART:20260421T070000Z
DTEND:20260421T110000Z
SUMMARY:Die Nacht des Flimmernden Popcornzaubers
DESCRIPTION:Das Wanderkino Lumenia lädt zu einer einmaligen Sommernacht mit filmischen Illusionen, Popcorn und Begegnungen mit Kinofiguren ein.\n\nhttps://staging.eventfrog.dev/de/p/essen-trinken/die-nacht-des-flimmernden-popcornzaubers-7431698164381715845.html
LOCATION:Kunstmuseum Bern
GEO:46.951000;7.443570
URL:https://staging.eventfrog.dev/de/p/essen-trinken/die-nacht-des-flimmernden-popcornzaubers-7431698164381715845.html
END:VEVENT
END:VCALENDAR