BEGIN:VCALENDAR
VERSION:2.0
PRODID:EVENTFROG//EVENT//ICAL
BEGIN:VEVENT
UID:20260419T151734Z-7431690164438933947@staging.eventfrog.dev
DTSTAMP:20260419T151734Z
DTSTART:20260424T220000Z
SUMMARY:1 Kaffekränzchen im Kino
DESCRIPTION:Das Wanderkino Lumenia entführt in einer Sommernacht mit Popcorn und filmischen Illusionen in eine magische Welt zwischen Realität und Film.\n\nhttps://staging.eventfrog.dev/de/p/essen-trinken/1-kaffekraenzchen-im-kino-7431690164438933947.html
LOCATION:Kunstmuseum Bern
GEO:46.951000;7.443570
URL:https://staging.eventfrog.dev/de/p/essen-trinken/1-kaffekraenzchen-im-kino-7431690164438933947.html
END:VEVENT
END:VCALENDAR