BEGIN:VCALENDAR
VERSION:2.0
PRODID:EVENTFROG//EVENT//ICAL
BEGIN:VEVENT
UID:20260419T151131Z-7407448995542709665@staging.eventfrog.dev
DTSTAMP:20260419T151131Z
DTSTART:20260831T220000Z
SUMMARY:!!FLEX TICKET KAUFEN!!
DESCRIPTION:Something about the event\n\nhttps://staging.eventfrog.dev/de/p/konzert/punk/flex-ticket-kaufen-7407448995542709665.html
LOCATION:test
GEO:47.411734;8.496669
URL:https://staging.eventfrog.dev/de/p/konzert/punk/flex-ticket-kaufen-7407448995542709665.html
END:VEVENT
END:VCALENDAR