BEGIN:VCALENDAR
VERSION:2.0
PRODID:EVENTFROG//EVENTGROUP//ICAL
BEGIN:VEVENT
UID:20260419T181619Z-7449793822959426436@staging.eventfrog.dev
DTSTAMP:20260419T181619Z
DTSTART:20260704T220000Z
SUMMARY:Popcorn und Cola - Der Film
DESCRIPTION:Eine spannende Filmvorführung beleuchtet die Geschichte der Unterhaltung - geniessen Sie Popcorn und Cola im Kino.\n\nhttps://staging.eventfrog.dev/de/p/freizeit-ausfluege/film-kino/popcorn-und-cola-der-film-7449793822959426436.html
LOCATION:Haus am See
GEO:47.334851;7.842260
URL:https://staging.eventfrog.dev/de/p/freizeit-ausfluege/film-kino/popcorn-und-cola-der-film-7449793822959426436.html
END:VEVENT
BEGIN:VEVENT
UID:20260419T181619Z-7449793995127217887@staging.eventfrog.dev
DTSTAMP:20260419T181619Z
DTSTART:20260711T220000Z
SUMMARY:Popcorn und Cola - Der Film
DESCRIPTION:Eine spannende Filmvorführung beleuchtet die Geschichte der Unterhaltung - geniessen Sie Popcorn und Cola im Kino.\n\nhttps://staging.eventfrog.dev/de/p/freizeit-ausfluege/film-kino/popcorn-und-cola-der-film-7449793995127217887.html
LOCATION:Haus am See
GEO:47.334851;7.842260
URL:https://staging.eventfrog.dev/de/p/freizeit-ausfluege/film-kino/popcorn-und-cola-der-film-7449793995127217887.html
END:VEVENT
END:VCALENDAR