BEGIN:VCALENDAR
VERSION:2.0
PRODID:EVENTFROG//EVENTGROUP//ICAL
BEGIN:VEVENT
UID:20260419T151216Z-7444733620413358570@staging.eventfrog.dev
DTSTAMP:20260419T151216Z
DTSTART:20260429T220000Z
SUMMARY:Stadtführung Zürich
DESCRIPTION:Erfahrene Guides zeigen Zürich mit thematischen Führungen zu Essen, Quartieren und Geschichte - für Einzelpersonen und Gruppen buchbar.\n\nhttps://staging.eventfrog.dev/de/p/festivals/hip-hop-rap/stadtfuehrung-zuerich-7444733620413358570.html
LOCATION:Stadthalle Dietikon
GEO:47.405389;8.399770
URL:https://staging.eventfrog.dev/de/p/festivals/hip-hop-rap/stadtfuehrung-zuerich-7444733620413358570.html
END:VEVENT
BEGIN:VEVENT
UID:20260419T151216Z-7444733912685045295@staging.eventfrog.dev
DTSTAMP:20260419T151216Z
DTSTART:20260529T220000Z
SUMMARY:Stadtführung Zürich
DESCRIPTION:Erfahrene Guides führen zu kulinarischen, historischen und trendigen Orten in Zürich; Führungen ab Tourist Info HB buchbar.\n\nhttps://staging.eventfrog.dev/de/p/diverses/stadtfuehrung-zuerich-7444733912685045295.html
LOCATION:Stadthalle Dietikon
GEO:47.405389;8.399770
URL:https://staging.eventfrog.dev/de/p/diverses/stadtfuehrung-zuerich-7444733912685045295.html
END:VEVENT
END:VCALENDAR