BEGIN:VCALENDAR
VERSION:2.0
PRODID:EVENTFROG//EVENTGROUP//ICAL
BEGIN:VEVENT
UID:20260419T151216Z-7429871821792859405@staging.eventfrog.dev
DTSTAMP:20260419T151216Z
DTSTART:20260401T050000Z
DTEND:20260401T130000Z
SUMMARY:Attraktion ohen Tickets zum prüfen
DESCRIPTION:5-stündiger Pflanzenpflegetipps-Kurs mit Substratmischung, Mittagspause mit Holzofenpizza und eigener Topfpflanze zum Mitnehmen.\n\nhttps://staging.eventfrog.dev/de/p/kurse-seminare/freizeit-hobby/attraktion-ohen-tickets-zum-pruefen-7429871821792859405.html
LOCATION:Haus am See
GEO:47.334851;7.842260
URL:https://staging.eventfrog.dev/de/p/kurse-seminare/freizeit-hobby/attraktion-ohen-tickets-zum-pruefen-7429871821792859405.html
END:VEVENT
BEGIN:VEVENT
UID:20260419T151216Z-7429871821851579663@staging.eventfrog.dev
DTSTAMP:20260419T151216Z
DTSTART:20260403T050000Z
DTEND:20260403T130000Z
SUMMARY:Attraktion ohen Tickets zum prüfen
DESCRIPTION:5-stündiger Pflanzenpflegetipps-Kurs mit Substratmischung, Mittagspause mit Holzofenpizza und eigener Topfpflanze zum Mitnehmen.\n\nhttps://staging.eventfrog.dev/de/p/kurse-seminare/freizeit-hobby/attraktion-ohen-tickets-zum-pruefen-7429871821851579663.html
LOCATION:Haus am See
GEO:47.334851;7.842260
URL:https://staging.eventfrog.dev/de/p/kurse-seminare/freizeit-hobby/attraktion-ohen-tickets-zum-pruefen-7429871821851579663.html
END:VEVENT
BEGIN:VEVENT
UID:20260419T151216Z-7429871821910299921@staging.eventfrog.dev
DTSTAMP:20260419T151216Z
DTSTART:20260406T050000Z
DTEND:20260406T130000Z
SUMMARY:Attraktion ohen Tickets zum prüfen
DESCRIPTION:5-stündiger Pflanzenpflegetipps-Kurs mit Substratmischung, Mittagspause mit Holzofenpizza und eigener Topfpflanze zum Mitnehmen.\n\nhttps://staging.eventfrog.dev/de/p/kurse-seminare/freizeit-hobby/attraktion-ohen-tickets-zum-pruefen-7429871821910299921.html
LOCATION:Haus am See
GEO:47.334851;7.842260
URL:https://staging.eventfrog.dev/de/p/kurse-seminare/freizeit-hobby/attraktion-ohen-tickets-zum-pruefen-7429871821910299921.html
END:VEVENT
BEGIN:VEVENT
UID:20260419T151216Z-7433071355201184055@staging.eventfrog.dev
DTSTAMP:20260419T151216Z
DTSTART:20260406T060000Z
DTEND:20260406T100000Z
SUMMARY:Die Bunten Seiten des Lebens geniessen - Activ-Painting Kurs
DESCRIPTION:Activ-Painting-Kurs vermittelt intuitives Malen in entspannter Atmosphäre ohne Fokus auf Perfektion.\n\nhttps://staging.eventfrog.dev/de/p/kurse-seminare/coaching/die-bunten-seiten-des-lebens-geniessen-activ-painting-kurs-7433071355201184055.html
LOCATION:Haus am See
GEO:47.334851;7.842260
URL:https://staging.eventfrog.dev/de/p/kurse-seminare/coaching/die-bunten-seiten-des-lebens-geniessen-activ-painting-kurs-7433071355201184055.html
END:VEVENT
BEGIN:VEVENT
UID:20260419T151216Z-7433064363967491503@staging.eventfrog.dev
DTSTAMP:20260419T151216Z
DTSTART:20260407T060000Z
DTEND:20260407T080000Z
SUMMARY:Attraktion erstellen mit Ticketing" into "Eventtitel
DESCRIPTION:Hier wird geprüft: Attraktion erstellen mit Ticketing. Eine einfach Attraktion mit Ticketing aber ohne viel Schnick Schnack und Firlefanz" into "Kurzbeschreibung\n\nhttps://staging.eventfrog.dev/de/p/essen-trinken/attraktion-erstellen-mit-ticketing-into-eventtitel-7433064363967491503.html
LOCATION:Haus am See
GEO:47.334851;7.842260
URL:https://staging.eventfrog.dev/de/p/essen-trinken/attraktion-erstellen-mit-ticketing-into-eventtitel-7433064363967491503.html
END:VEVENT
BEGIN:VEVENT
UID:20260419T151216Z-7433071355268292921@staging.eventfrog.dev
DTSTAMP:20260419T151216Z
DTSTART:20260407T100000Z
DTEND:20260407T130000Z
SUMMARY:Die Bunten Seiten des Lebens geniessen - Activ-Painting Kurs
DESCRIPTION:Activ-Painting-Kurs vermittelt intuitives Malen in entspannter Atmosphäre ohne Fokus auf Perfektion.\n\nhttps://staging.eventfrog.dev/de/p/kurse-seminare/coaching/die-bunten-seiten-des-lebens-geniessen-activ-painting-kurs-7433071355268292921.html
LOCATION:Haus am See
GEO:47.334851;7.842260
URL:https://staging.eventfrog.dev/de/p/kurse-seminare/coaching/die-bunten-seiten-des-lebens-geniessen-activ-painting-kurs-7433071355268292921.html
END:VEVENT
BEGIN:VEVENT
UID:20260419T151216Z-7429871821969020179@staging.eventfrog.dev
DTSTAMP:20260419T151216Z
DTSTART:20260408T050000Z
DTEND:20260408T130000Z
SUMMARY:Attraktion ohen Tickets zum prüfen
DESCRIPTION:5-stündiger Pflanzenpflegetipps-Kurs mit Substratmischung, Mittagspause mit Holzofenpizza und eigener Topfpflanze zum Mitnehmen.\n\nhttps://staging.eventfrog.dev/de/p/kurse-seminare/freizeit-hobby/attraktion-ohen-tickets-zum-pruefen-7429871821969020179.html
LOCATION:Haus am See
GEO:47.334851;7.842260
URL:https://staging.eventfrog.dev/de/p/kurse-seminare/freizeit-hobby/attraktion-ohen-tickets-zum-pruefen-7429871821969020179.html
END:VEVENT
BEGIN:VEVENT
UID:20260419T151216Z-7429871822023546133@staging.eventfrog.dev
DTSTAMP:20260419T151216Z
DTSTART:20260410T050000Z
DTEND:20260410T130000Z
SUMMARY:Attraktion ohen Tickets zum prüfen
DESCRIPTION:5-stündiger Pflanzenpflegetipps-Kurs mit Substratmischung, Mittagspause mit Holzofenpizza und eigener Topfpflanze zum Mitnehmen.\n\nhttps://staging.eventfrog.dev/de/p/kurse-seminare/freizeit-hobby/attraktion-ohen-tickets-zum-pruefen-7429871822023546133.html
LOCATION:Haus am See
GEO:47.334851;7.842260
URL:https://staging.eventfrog.dev/de/p/kurse-seminare/freizeit-hobby/attraktion-ohen-tickets-zum-pruefen-7429871822023546133.html
END:VEVENT
BEGIN:VEVENT
UID:20260419T151216Z-7429871822082266391@staging.eventfrog.dev
DTSTAMP:20260419T151216Z
DTSTART:20260413T050000Z
DTEND:20260413T130000Z
SUMMARY:Attraktion ohen Tickets zum prüfen
DESCRIPTION:5-stündiger Pflanzenpflegetipps-Kurs mit Substratmischung, Mittagspause mit Holzofenpizza und eigener Topfpflanze zum Mitnehmen.\n\nhttps://staging.eventfrog.dev/de/p/kurse-seminare/freizeit-hobby/attraktion-ohen-tickets-zum-pruefen-7429871822082266391.html
LOCATION:Haus am See
GEO:47.334851;7.842260
URL:https://staging.eventfrog.dev/de/p/kurse-seminare/freizeit-hobby/attraktion-ohen-tickets-zum-pruefen-7429871822082266391.html
END:VEVENT
BEGIN:VEVENT
UID:20260419T151216Z-7433071355331207483@staging.eventfrog.dev
DTSTAMP:20260419T151216Z
DTSTART:20260413T060000Z
DTEND:20260413T100000Z
SUMMARY:Die Bunten Seiten des Lebens geniessen - Activ-Painting Kurs
DESCRIPTION:Activ-Painting-Kurs vermittelt intuitives Malen in entspannter Atmosphäre ohne Fokus auf Perfektion.\n\nhttps://staging.eventfrog.dev/de/p/kurse-seminare/coaching/die-bunten-seiten-des-lebens-geniessen-activ-painting-kurs-7433071355331207483.html
LOCATION:Haus am See
GEO:47.334851;7.842260
URL:https://staging.eventfrog.dev/de/p/kurse-seminare/coaching/die-bunten-seiten-des-lebens-geniessen-activ-painting-kurs-7433071355331207483.html
END:VEVENT
BEGIN:VEVENT
UID:20260419T151216Z-7433064364047183281@staging.eventfrog.dev
DTSTAMP:20260419T151216Z
DTSTART:20260414T060000Z
DTEND:20260414T080000Z
SUMMARY:Attraktion erstellen mit Ticketing" into "Eventtitel
DESCRIPTION:Hier wird geprüft: Attraktion erstellen mit Ticketing. Eine einfach Attraktion mit Ticketing aber ohne viel Schnick Schnack und Firlefanz" into "Kurzbeschreibung\n\nhttps://staging.eventfrog.dev/de/p/essen-trinken/attraktion-erstellen-mit-ticketing-into-eventtitel-7433064364047183281.html
LOCATION:Haus am See
GEO:47.334851;7.842260
URL:https://staging.eventfrog.dev/de/p/essen-trinken/attraktion-erstellen-mit-ticketing-into-eventtitel-7433064364047183281.html
END:VEVENT
BEGIN:VEVENT
UID:20260419T151216Z-7433071355394122045@staging.eventfrog.dev
DTSTAMP:20260419T151216Z
DTSTART:20260414T100000Z
DTEND:20260414T130000Z
SUMMARY:Die Bunten Seiten des Lebens geniessen - Activ-Painting Kurs
DESCRIPTION:Activ-Painting-Kurs vermittelt intuitives Malen in entspannter Atmosphäre ohne Fokus auf Perfektion.\n\nhttps://staging.eventfrog.dev/de/p/kurse-seminare/coaching/die-bunten-seiten-des-lebens-geniessen-activ-painting-kurs-7433071355394122045.html
LOCATION:Haus am See
GEO:47.334851;7.842260
URL:https://staging.eventfrog.dev/de/p/kurse-seminare/coaching/die-bunten-seiten-des-lebens-geniessen-activ-painting-kurs-7433071355394122045.html
END:VEVENT
BEGIN:VEVENT
UID:20260419T151216Z-7429871822136792345@staging.eventfrog.dev
DTSTAMP:20260419T151216Z
DTSTART:20260415T050000Z
DTEND:20260415T130000Z
SUMMARY:Attraktion ohen Tickets zum prüfen
DESCRIPTION:5-stündiger Pflanzenpflegetipps-Kurs mit Substratmischung, Mittagspause mit Holzofenpizza und eigener Topfpflanze zum Mitnehmen.\n\nhttps://staging.eventfrog.dev/de/p/kurse-seminare/freizeit-hobby/attraktion-ohen-tickets-zum-pruefen-7429871822136792345.html
LOCATION:Haus am See
GEO:47.334851;7.842260
URL:https://staging.eventfrog.dev/de/p/kurse-seminare/freizeit-hobby/attraktion-ohen-tickets-zum-pruefen-7429871822136792345.html
END:VEVENT
BEGIN:VEVENT
UID:20260419T151216Z-7429871822195512603@staging.eventfrog.dev
DTSTAMP:20260419T151216Z
DTSTART:20260417T050000Z
DTEND:20260417T130000Z
SUMMARY:Attraktion ohen Tickets zum prüfen
DESCRIPTION:5-stündiger Pflanzenpflegetipps-Kurs mit Substratmischung, Mittagspause mit Holzofenpizza und eigener Topfpflanze zum Mitnehmen.\n\nhttps://staging.eventfrog.dev/de/p/kurse-seminare/freizeit-hobby/attraktion-ohen-tickets-zum-pruefen-7429871822195512603.html
LOCATION:Haus am See
GEO:47.334851;7.842260
URL:https://staging.eventfrog.dev/de/p/kurse-seminare/freizeit-hobby/attraktion-ohen-tickets-zum-pruefen-7429871822195512603.html
END:VEVENT
BEGIN:VEVENT
UID:20260419T151216Z-7433071355461230911@staging.eventfrog.dev
DTSTAMP:20260419T151216Z
DTSTART:20260420T060000Z
DTEND:20260420T100000Z
SUMMARY:Die Bunten Seiten des Lebens geniessen - Activ-Painting Kurs
DESCRIPTION:Activ-Painting-Kurs vermittelt intuitives Malen in entspannter Atmosphäre ohne Fokus auf Perfektion.\n\nhttps://staging.eventfrog.dev/de/p/kurse-seminare/coaching/die-bunten-seiten-des-lebens-geniessen-activ-painting-kurs-7433071355461230911.html
LOCATION:Haus am See
GEO:47.334851;7.842260
URL:https://staging.eventfrog.dev/de/p/kurse-seminare/coaching/die-bunten-seiten-des-lebens-geniessen-activ-painting-kurs-7433071355461230911.html
END:VEVENT
BEGIN:VEVENT
UID:20260419T151216Z-7433064364122680755@staging.eventfrog.dev
DTSTAMP:20260419T151216Z
DTSTART:20260421T060000Z
DTEND:20260421T080000Z
SUMMARY:Attraktion erstellen mit Ticketing" into "Eventtitel
DESCRIPTION:Hier wird geprüft: Attraktion erstellen mit Ticketing. Eine einfach Attraktion mit Ticketing aber ohne viel Schnick Schnack und Firlefanz" into "Kurzbeschreibung\n\nhttps://staging.eventfrog.dev/de/p/essen-trinken/attraktion-erstellen-mit-ticketing-into-eventtitel-7433064364122680755.html
LOCATION:Haus am See
GEO:47.334851;7.842260
URL:https://staging.eventfrog.dev/de/p/essen-trinken/attraktion-erstellen-mit-ticketing-into-eventtitel-7433064364122680755.html
END:VEVENT
BEGIN:VEVENT
UID:20260419T151216Z-7433071355524145473@staging.eventfrog.dev
DTSTAMP:20260419T151216Z
DTSTART:20260421T100000Z
DTEND:20260421T130000Z
SUMMARY:Die Bunten Seiten des Lebens geniessen - Activ-Painting Kurs
DESCRIPTION:Activ-Painting-Kurs vermittelt intuitives Malen in entspannter Atmosphäre ohne Fokus auf Perfektion.\n\nhttps://staging.eventfrog.dev/de/p/kurse-seminare/coaching/die-bunten-seiten-des-lebens-geniessen-activ-painting-kurs-7433071355524145473.html
LOCATION:Haus am See
GEO:47.334851;7.842260
URL:https://staging.eventfrog.dev/de/p/kurse-seminare/coaching/die-bunten-seiten-des-lebens-geniessen-activ-painting-kurs-7433071355524145473.html
END:VEVENT
BEGIN:VEVENT
UID:20260419T151216Z-7433071355595448643@staging.eventfrog.dev
DTSTAMP:20260419T151216Z
DTSTART:20260427T060000Z
DTEND:20260427T100000Z
SUMMARY:Die Bunten Seiten des Lebens geniessen - Activ-Painting Kurs
DESCRIPTION:Activ-Painting-Kurs vermittelt intuitives Malen in entspannter Atmosphäre ohne Fokus auf Perfektion.\n\nhttps://staging.eventfrog.dev/de/p/kurse-seminare/coaching/die-bunten-seiten-des-lebens-geniessen-activ-painting-kurs-7433071355595448643.html
LOCATION:Haus am See
GEO:47.334851;7.842260
URL:https://staging.eventfrog.dev/de/p/kurse-seminare/coaching/die-bunten-seiten-des-lebens-geniessen-activ-painting-kurs-7433071355595448643.html
END:VEVENT
BEGIN:VEVENT
UID:20260419T151216Z-7433071355662557509@staging.eventfrog.dev
DTSTAMP:20260419T151216Z
DTSTART:20260428T100000Z
DTEND:20260428T130000Z
SUMMARY:Die Bunten Seiten des Lebens geniessen - Activ-Painting Kurs
DESCRIPTION:Activ-Painting-Kurs vermittelt intuitives Malen in entspannter Atmosphäre ohne Fokus auf Perfektion.\n\nhttps://staging.eventfrog.dev/de/p/kurse-seminare/coaching/die-bunten-seiten-des-lebens-geniessen-activ-painting-kurs-7433071355662557509.html
LOCATION:Haus am See
GEO:47.334851;7.842260
URL:https://staging.eventfrog.dev/de/p/kurse-seminare/coaching/die-bunten-seiten-des-lebens-geniessen-activ-painting-kurs-7433071355662557509.html
END:VEVENT
BEGIN:VEVENT
UID:20260419T151216Z-7433071355725472071@staging.eventfrog.dev
DTSTAMP:20260419T151216Z
DTSTART:20260504T060000Z
DTEND:20260504T100000Z
SUMMARY:Die Bunten Seiten des Lebens geniessen - Activ-Painting Kurs
DESCRIPTION:Activ-Painting-Kurs vermittelt intuitives Malen in entspannter Atmosphäre ohne Fokus auf Perfektion.\n\nhttps://staging.eventfrog.dev/de/p/kurse-seminare/coaching/die-bunten-seiten-des-lebens-geniessen-activ-painting-kurs-7433071355725472071.html
LOCATION:Haus am See
GEO:47.334851;7.842260
URL:https://staging.eventfrog.dev/de/p/kurse-seminare/coaching/die-bunten-seiten-des-lebens-geniessen-activ-painting-kurs-7433071355725472071.html
END:VEVENT
BEGIN:VEVENT
UID:20260419T151216Z-7433071355788386633@staging.eventfrog.dev
DTSTAMP:20260419T151216Z
DTSTART:20260505T100000Z
DTEND:20260505T130000Z
SUMMARY:Die Bunten Seiten des Lebens geniessen - Activ-Painting Kurs
DESCRIPTION:Activ-Painting-Kurs vermittelt intuitives Malen in entspannter Atmosphäre ohne Fokus auf Perfektion.\n\nhttps://staging.eventfrog.dev/de/p/kurse-seminare/coaching/die-bunten-seiten-des-lebens-geniessen-activ-painting-kurs-7433071355788386633.html
LOCATION:Haus am See
GEO:47.334851;7.842260
URL:https://staging.eventfrog.dev/de/p/kurse-seminare/coaching/die-bunten-seiten-des-lebens-geniessen-activ-painting-kurs-7433071355788386633.html
END:VEVENT
BEGIN:VEVENT
UID:20260419T151216Z-7433071355851301195@staging.eventfrog.dev
DTSTAMP:20260419T151216Z
DTSTART:20260511T060000Z
DTEND:20260511T100000Z
SUMMARY:Die Bunten Seiten des Lebens geniessen - Activ-Painting Kurs
DESCRIPTION:Activ-Painting-Kurs vermittelt intuitives Malen in entspannter Atmosphäre ohne Fokus auf Perfektion.\n\nhttps://staging.eventfrog.dev/de/p/kurse-seminare/coaching/die-bunten-seiten-des-lebens-geniessen-activ-painting-kurs-7433071355851301195.html
LOCATION:Haus am See
GEO:47.334851;7.842260
URL:https://staging.eventfrog.dev/de/p/kurse-seminare/coaching/die-bunten-seiten-des-lebens-geniessen-activ-painting-kurs-7433071355851301195.html
END:VEVENT
BEGIN:VEVENT
UID:20260419T151216Z-7433071355914215757@staging.eventfrog.dev
DTSTAMP:20260419T151216Z
DTSTART:20260512T100000Z
DTEND:20260512T130000Z
SUMMARY:Die Bunten Seiten des Lebens geniessen - Activ-Painting Kurs
DESCRIPTION:Activ-Painting-Kurs vermittelt intuitives Malen in entspannter Atmosphäre ohne Fokus auf Perfektion.\n\nhttps://staging.eventfrog.dev/de/p/kurse-seminare/coaching/die-bunten-seiten-des-lebens-geniessen-activ-painting-kurs-7433071355914215757.html
LOCATION:Haus am See
GEO:47.334851;7.842260
URL:https://staging.eventfrog.dev/de/p/kurse-seminare/coaching/die-bunten-seiten-des-lebens-geniessen-activ-painting-kurs-7433071355914215757.html
END:VEVENT
BEGIN:VEVENT
UID:20260419T151216Z-7433071355977130319@staging.eventfrog.dev
DTSTAMP:20260419T151216Z
DTSTART:20260518T060000Z
DTEND:20260518T100000Z
SUMMARY:Die Bunten Seiten des Lebens geniessen - Activ-Painting Kurs
DESCRIPTION:Activ-Painting-Kurs vermittelt intuitives Malen in entspannter Atmosphäre ohne Fokus auf Perfektion.\n\nhttps://staging.eventfrog.dev/de/p/kurse-seminare/coaching/die-bunten-seiten-des-lebens-geniessen-activ-painting-kurs-7433071355977130319.html
LOCATION:Haus am See
GEO:47.334851;7.842260
URL:https://staging.eventfrog.dev/de/p/kurse-seminare/coaching/die-bunten-seiten-des-lebens-geniessen-activ-painting-kurs-7433071355977130319.html
END:VEVENT
BEGIN:VEVENT
UID:20260419T151216Z-7433071356040044881@staging.eventfrog.dev
DTSTAMP:20260419T151216Z
DTSTART:20260519T100000Z
DTEND:20260519T130000Z
SUMMARY:Die Bunten Seiten des Lebens geniessen - Activ-Painting Kurs
DESCRIPTION:Activ-Painting-Kurs vermittelt intuitives Malen in entspannter Atmosphäre ohne Fokus auf Perfektion.\n\nhttps://staging.eventfrog.dev/de/p/kurse-seminare/coaching/die-bunten-seiten-des-lebens-geniessen-activ-painting-kurs-7433071356040044881.html
LOCATION:Haus am See
GEO:47.334851;7.842260
URL:https://staging.eventfrog.dev/de/p/kurse-seminare/coaching/die-bunten-seiten-des-lebens-geniessen-activ-painting-kurs-7433071356040044881.html
END:VEVENT
BEGIN:VEVENT
UID:20260419T151216Z-7433071356111348051@staging.eventfrog.dev
DTSTAMP:20260419T151216Z
DTSTART:20260525T060000Z
DTEND:20260525T100000Z
SUMMARY:Die Bunten Seiten des Lebens geniessen - Activ-Painting Kurs
DESCRIPTION:Activ-Painting-Kurs vermittelt intuitives Malen in entspannter Atmosphäre ohne Fokus auf Perfektion.\n\nhttps://staging.eventfrog.dev/de/p/kurse-seminare/coaching/die-bunten-seiten-des-lebens-geniessen-activ-painting-kurs-7433071356111348051.html
LOCATION:Haus am See
GEO:47.334851;7.842260
URL:https://staging.eventfrog.dev/de/p/kurse-seminare/coaching/die-bunten-seiten-des-lebens-geniessen-activ-painting-kurs-7433071356111348051.html
END:VEVENT
BEGIN:VEVENT
UID:20260419T151216Z-7433071356174262613@staging.eventfrog.dev
DTSTAMP:20260419T151216Z
DTSTART:20260526T100000Z
DTEND:20260526T130000Z
SUMMARY:Die Bunten Seiten des Lebens geniessen - Activ-Painting Kurs
DESCRIPTION:Activ-Painting-Kurs vermittelt intuitives Malen in entspannter Atmosphäre ohne Fokus auf Perfektion.\n\nhttps://staging.eventfrog.dev/de/p/kurse-seminare/coaching/die-bunten-seiten-des-lebens-geniessen-activ-painting-kurs-7433071356174262613.html
LOCATION:Haus am See
GEO:47.334851;7.842260
URL:https://staging.eventfrog.dev/de/p/kurse-seminare/coaching/die-bunten-seiten-des-lebens-geniessen-activ-painting-kurs-7433071356174262613.html
END:VEVENT
END:VCALENDAR