BEGIN:VCALENDAR
VERSION:2.0
PRODID:EVENTFROG//EVENTGROUP//ICAL
BEGIN:VEVENT
UID:20260419T164231Z-1524139938119001002@staging.eventfrog.dev
DTSTAMP:20260419T164231Z
DTSTART:20271015T180000Z
DTEND:20271015T180000Z
SUMMARY:Fertig luschtig
DESCRIPTION:Comedy von Peach Weber & Friends\n\nhttps://staging.eventfrog.dev/de/p/theater-buehne/comedy-kabarett/fertig-luschtig-1524139938119001002.html
LOCATION:Strassenverkehrsamt
GEO:47.191700;8.475560
URL:https://staging.eventfrog.dev/de/p/theater-buehne/comedy-kabarett/fertig-luschtig-1524139938119001002.html
END:VEVENT
END:VCALENDAR