BEGIN:VCALENDAR
VERSION:2.0
PRODID:EVENTFROG//EVENT//ICAL
BEGIN:VEVENT
UID:20260419T181619Z-7449805408361081398@staging.eventfrog.dev
DTSTAMP:20260419T181619Z
DTSTART:20260527T220000Z
SUMMARY:Anti‑Kläff‑Kurs für laute Vierbeiner 2.0 jetzt mit Saalplan
DESCRIPTION:Im Workshop lernen Hundehalter, mit alltagstauglichen Methoden ihren bellfreudigen Hund zu mehr Gelassenheit zu führen.\n\nhttps://staging.eventfrog.dev/de/p/essen-trinken/antiklaeffkurs-fuer-laute-vierbeiner-2-0-jetzt-mit-saalplan-7449805408361081398.html
LOCATION:Haus am See
GEO:47.334851;7.842260
URL:https://staging.eventfrog.dev/de/p/essen-trinken/antiklaeffkurs-fuer-laute-vierbeiner-2-0-jetzt-mit-saalplan-7449805408361081398.html
END:VEVENT
END:VCALENDAR