BEGIN:VCALENDAR
VERSION:2.0
PRODID:EVENTFROG//EVENT//ICAL
BEGIN:VEVENT
UID:20260419T151723Z-7444736458203955813@staging.eventfrog.dev
DTSTAMP:20260419T151723Z
DTSTART:20260428T180000Z
SUMMARY:671660 Froggy prüft: Ticketing-Event, nur Pflichtfelder
DESCRIPTION:Hier prüfen wir, ob die Eventerstellung wie erwartet funktioniert.\n\nhttps://staging.eventfrog.dev/de/p/diverses/671660-froggy-prueft-ticketing-event-nur-pflichtfelder-7444736458203955813.html
LOCATION:Marienkirche Olten
GEO:47.347949;7.913409
URL:https://staging.eventfrog.dev/de/p/diverses/671660-froggy-prueft-ticketing-event-nur-pflichtfelder-7444736458203955813.html
END:VEVENT
END:VCALENDAR