BEGIN:VCALENDAR
VERSION:2.0
PRODID:EVENTFROG//EVENT//ICAL
BEGIN:VEVENT
UID:20260419T133612Z-7444736276854832541@staging.eventfrog.dev
DTSTAMP:20260419T133612Z
DTSTART:20260428T180000Z
SUMMARY:066496 Froggy prüft: Ticketing-Event, nur Pflichtfelder
DESCRIPTION:Hier prüfen wir, ob die Eventerstellung wie erwartet funktioniert.\n\nhttps://staging.eventfrog.dev/de/p/diverses/066496-froggy-prueft-ticketing-event-nur-pflichtfelder-7444736276854832541.html
LOCATION:Marienkirche Olten
GEO:47.347949;7.913409
URL:https://staging.eventfrog.dev/de/p/diverses/066496-froggy-prueft-ticketing-event-nur-pflichtfelder-7444736276854832541.html
END:VEVENT
END:VCALENDAR