BEGIN:VCALENDAR
VERSION:2.0
PRODID:EVENTFROG//EVENT//ICAL
BEGIN:VEVENT
UID:20260419T133513Z-7444735736838190703@staging.eventfrog.dev
DTSTAMP:20260419T133513Z
DTSTART:20260428T180000Z
SUMMARY:637533 Froggy prüft: Ticketing-Event, nur Pflichtfelder
DESCRIPTION:Hier prüfen wir, ob die Eventerstellung wie erwartet funktioniert.\n\nhttps://staging.eventfrog.dev/de/p/diverses/637533-froggy-prueft-ticketing-event-nur-pflichtfelder-7444735736838190703.html
LOCATION:Galicia Olten
GEO:47.349542;7.908778
URL:https://staging.eventfrog.dev/de/p/diverses/637533-froggy-prueft-ticketing-event-nur-pflichtfelder-7444735736838190703.html
END:VEVENT
END:VCALENDAR