BEGIN:VCALENDAR
VERSION:2.0
PRODID:EVENTFROG//EVENT//ICAL
BEGIN:VEVENT
UID:20260419T133511Z-7444722494480945588@staging.eventfrog.dev
DTSTAMP:20260419T133511Z
DTSTART:20260428T180000Z
SUMMARY:503490 Froggy prüft: Ticketing-Event, nur Pflichtfelder
DESCRIPTION:Hier prüfen wir, ob die Eventerstellung wie erwartet funktioniert.\n\nhttps://staging.eventfrog.dev/de/p/diverses/503490-froggy-prueft-ticketing-event-nur-pflichtfelder-7444722494480945588.html
LOCATION:oLTEN
GEO:47.352586;7.906871
URL:https://staging.eventfrog.dev/de/p/diverses/503490-froggy-prueft-ticketing-event-nur-pflichtfelder-7444722494480945588.html
END:VEVENT
END:VCALENDAR