BEGIN:VCALENDAR
VERSION:2.0
PRODID:EVENTFROG//EVENT//ICAL
BEGIN:VEVENT
UID:20260419T164251Z-7439648618138926047@staging.eventfrog.dev
DTSTAMP:20260419T164251Z
DTSTART:20260522T220000Z
SUMMARY:Saisonabo-Event mit Saalplan
DESCRIPTION:Im Cockpit werden beim Vorverkaufen unter dem Event die Request alle sehr oft abgesendet. Das Hauptproblem hier ist aber der POST um Tickets einen Basket hinzuzufügen. Dieser wird doppelt gesendet.\n\nhttps://staging.eventfrog.dev/de/p/essen-trinken/saisonabo-event-mit-saalplan-7439648618138926047.html
LOCATION:Marienkirche Olten
GEO:47.347949;7.913409
URL:https://staging.eventfrog.dev/de/p/essen-trinken/saisonabo-event-mit-saalplan-7439648618138926047.html
END:VEVENT
END:VCALENDAR