BEGIN:VCALENDAR
VERSION:2.0
PRODID:EVENTFROG//EVENT//ICAL
BEGIN:VEVENT
UID:20260419T151716Z-7432377576991320239@staging.eventfrog.dev
DTSTAMP:20260419T151716Z
DTSTART:20260620T220000Z
SUMMARY:tetete
DESCRIPTION:Die Veranstaltungsdetails sind unklar. Bitte teilen Sie weitere Informationen zu Zweck, Ort, Zeitplan oder Referenten mit.\n\nhttps://staging.eventfrog.dev/de/p/fasnacht-fasching-karneval/sonstige-veranstaltungen/tetete-7432377576991320239.html
LOCATION:Bildschule Frauenfeld
GEO:47.559587;8.898943
URL:https://staging.eventfrog.dev/de/p/fasnacht-fasching-karneval/sonstige-veranstaltungen/tetete-7432377576991320239.html
END:VEVENT
END:VCALENDAR