BEGIN:VCALENDAR
VERSION:2.0
PRODID:EVENTFROG//EVENT//ICAL
BEGIN:VEVENT
UID:20260419T164251Z-7431972967365840723@staging.eventfrog.dev
DTSTAMP:20260419T164251Z
DTSTART:20260429T220000Z
SUMMARY:Garfield
DESCRIPTION:Die Abenteuer des faulen Katers Garfield mit Jon und Hund Odie in einer kleinen Stadt, geprägt von Essen und Schlafen.\n\nhttps://staging.eventfrog.dev/de/p/dating/single-party/garfield-7431972967365840723.html
LOCATION:Stadthalle Dietikon ZH
GEO:47.407043;8.386932
URL:https://staging.eventfrog.dev/de/p/dating/single-party/garfield-7431972967365840723.html
END:VEVENT
END:VCALENDAR