BEGIN:VCALENDAR
VERSION:2.0
PRODID:EVENTFROG//EVENT//ICAL
BEGIN:VEVENT
UID:20260419T133609Z-7429875685505967144@staging.eventfrog.dev
DTSTAMP:20260419T133609Z
DTSTART:20260422T150000Z
SUMMARY:Froschessen
DESCRIPTION:Kulinarisches Erlebnis: Gemeinsames Frösche essen verbindet Kultur und Genuss an einem genussvollen, geselligen Abend voller Überraschungen.\n\nhttps://staging.eventfrog.dev/de/p/essen-trinken/froschessen-7429875685505967144.html
LOCATION:Büro
GEO:47.349849;7.909825
URL:https://staging.eventfrog.dev/de/p/essen-trinken/froschessen-7429875685505967144.html
END:VEVENT
END:VCALENDAR