BEGIN:VCALENDAR
VERSION:2.0
PRODID:EVENTFROG//EVENT//ICAL
BEGIN:VEVENT
UID:20260419T164253Z-7427273753318775941@staging.eventfrog.dev
DTSTAMP:20260419T164253Z
DTSTART:20261223T230000Z
SUMMARY:Garfield
DESCRIPTION:Die Abenteuer des faulen Katers Garfield, seines Herrchens Jon und Hund Odie in einer kleinen Stadt.\n\nhttps://staging.eventfrog.dev/de/p/dating/single-party/garfield-7427273753318775941.html
LOCATION:Stadthalle Dietikon ZH
GEO:47.407043;8.386932
URL:https://staging.eventfrog.dev/de/p/dating/single-party/garfield-7427273753318775941.html
END:VEVENT
END:VCALENDAR