BEGIN:VCALENDAR
VERSION:2.0
PRODID:EVENTFROG//EVENTGROUP//ICAL
BEGIN:VEVENT
UID:20260419T133454Z-7432420740548595953@staging.eventfrog.dev
DTSTAMP:20260419T133454Z
DTSTART:20260401T061500Z
DTEND:20260401T131000Z
SUMMARY:Attraktion erstellen ohne Ticketing
DESCRIPTION:Hier wird geprüft: Attraktion erstellen ohne Ticketing. Eine einfach Attraktion ohne viel Schnick Schnack und Firlefanz\n\nhttps://staging.eventfrog.dev/de/p/diverses/attraktion-erstellen-ohne-ticketing-7432420740548595953.html
LOCATION:Olten 22
GEO:47.350310;7.909900
URL:https://staging.eventfrog.dev/de/p/diverses/attraktion-erstellen-ohne-ticketing-7432420740548595953.html
END:VEVENT
BEGIN:VEVENT
UID:20260419T133454Z-7432420740649259251@staging.eventfrog.dev
DTSTAMP:20260419T133454Z
DTSTART:20260403T083000Z
DTEND:20260403T133000Z
SUMMARY:Attraktion erstellen ohne Ticketing
DESCRIPTION:Hier wird geprüft: Attraktion erstellen ohne Ticketing. Eine einfach Attraktion ohne viel Schnick Schnack und Firlefanz\n\nhttps://staging.eventfrog.dev/de/p/diverses/attraktion-erstellen-ohne-ticketing-7432420740649259251.html
LOCATION:Olten 22
GEO:47.350310;7.909900
URL:https://staging.eventfrog.dev/de/p/diverses/attraktion-erstellen-ohne-ticketing-7432420740649259251.html
END:VEVENT
BEGIN:VEVENT
UID:20260419T133454Z-7432420740728951029@staging.eventfrog.dev
DTSTAMP:20260419T133454Z
DTSTART:20260406T061500Z
DTEND:20260406T081500Z
SUMMARY:Attraktion erstellen ohne Ticketing
DESCRIPTION:Hier wird geprüft: Attraktion erstellen ohne Ticketing. Eine einfach Attraktion ohne viel Schnick Schnack und Firlefanz\n\nhttps://staging.eventfrog.dev/de/p/diverses/attraktion-erstellen-ohne-ticketing-7432420740728951029.html
LOCATION:Olten 22
GEO:47.350310;7.909900
URL:https://staging.eventfrog.dev/de/p/diverses/attraktion-erstellen-ohne-ticketing-7432420740728951029.html
END:VEVENT
BEGIN:VEVENT
UID:20260419T133454Z-7432420740821225719@staging.eventfrog.dev
DTSTAMP:20260419T133454Z
DTSTART:20260408T061500Z
DTEND:20260408T131000Z
SUMMARY:Attraktion erstellen ohne Ticketing
DESCRIPTION:Hier wird geprüft: Attraktion erstellen ohne Ticketing. Eine einfach Attraktion ohne viel Schnick Schnack und Firlefanz\n\nhttps://staging.eventfrog.dev/de/p/diverses/attraktion-erstellen-ohne-ticketing-7432420740821225719.html
LOCATION:Olten 22
GEO:47.350310;7.909900
URL:https://staging.eventfrog.dev/de/p/diverses/attraktion-erstellen-ohne-ticketing-7432420740821225719.html
END:VEVENT
BEGIN:VEVENT
UID:20260419T133454Z-7432420740900917497@staging.eventfrog.dev
DTSTAMP:20260419T133454Z
DTSTART:20260410T083000Z
DTEND:20260410T133000Z
SUMMARY:Attraktion erstellen ohne Ticketing
DESCRIPTION:Hier wird geprüft: Attraktion erstellen ohne Ticketing. Eine einfach Attraktion ohne viel Schnick Schnack und Firlefanz\n\nhttps://staging.eventfrog.dev/de/p/diverses/attraktion-erstellen-ohne-ticketing-7432420740900917497.html
LOCATION:Olten 22
GEO:47.350310;7.909900
URL:https://staging.eventfrog.dev/de/p/diverses/attraktion-erstellen-ohne-ticketing-7432420740900917497.html
END:VEVENT
BEGIN:VEVENT
UID:20260419T133454Z-7432420740976414971@staging.eventfrog.dev
DTSTAMP:20260419T133454Z
DTSTART:20260413T061500Z
DTEND:20260413T081500Z
SUMMARY:Attraktion erstellen ohne Ticketing
DESCRIPTION:Hier wird geprüft: Attraktion erstellen ohne Ticketing. Eine einfach Attraktion ohne viel Schnick Schnack und Firlefanz\n\nhttps://staging.eventfrog.dev/de/p/diverses/attraktion-erstellen-ohne-ticketing-7432420740976414971.html
LOCATION:Olten 22
GEO:47.350310;7.909900
URL:https://staging.eventfrog.dev/de/p/diverses/attraktion-erstellen-ohne-ticketing-7432420740976414971.html
END:VEVENT
BEGIN:VEVENT
UID:20260419T133454Z-7432420741043523837@staging.eventfrog.dev
DTSTAMP:20260419T133454Z
DTSTART:20260415T061500Z
DTEND:20260415T131000Z
SUMMARY:Attraktion erstellen ohne Ticketing
DESCRIPTION:Hier wird geprüft: Attraktion erstellen ohne Ticketing. Eine einfach Attraktion ohne viel Schnick Schnack und Firlefanz\n\nhttps://staging.eventfrog.dev/de/p/diverses/attraktion-erstellen-ohne-ticketing-7432420741043523837.html
LOCATION:Olten 22
GEO:47.350310;7.909900
URL:https://staging.eventfrog.dev/de/p/diverses/attraktion-erstellen-ohne-ticketing-7432420741043523837.html
END:VEVENT
BEGIN:VEVENT
UID:20260419T133454Z-7432420741110632703@staging.eventfrog.dev
DTSTAMP:20260419T133454Z
DTSTART:20260417T083000Z
DTEND:20260417T133000Z
SUMMARY:Attraktion erstellen ohne Ticketing
DESCRIPTION:Hier wird geprüft: Attraktion erstellen ohne Ticketing. Eine einfach Attraktion ohne viel Schnick Schnack und Firlefanz\n\nhttps://staging.eventfrog.dev/de/p/diverses/attraktion-erstellen-ohne-ticketing-7432420741110632703.html
LOCATION:Olten 22
GEO:47.350310;7.909900
URL:https://staging.eventfrog.dev/de/p/diverses/attraktion-erstellen-ohne-ticketing-7432420741110632703.html
END:VEVENT
BEGIN:VEVENT
UID:20260419T133454Z-7432420741181935873@staging.eventfrog.dev
DTSTAMP:20260419T133454Z
DTSTART:20260420T061500Z
DTEND:20260420T081500Z
SUMMARY:Attraktion erstellen ohne Ticketing
DESCRIPTION:Hier wird geprüft: Attraktion erstellen ohne Ticketing. Eine einfach Attraktion ohne viel Schnick Schnack und Firlefanz\n\nhttps://staging.eventfrog.dev/de/p/diverses/attraktion-erstellen-ohne-ticketing-7432420741181935873.html
LOCATION:Olten 22
GEO:47.350310;7.909900
URL:https://staging.eventfrog.dev/de/p/diverses/attraktion-erstellen-ohne-ticketing-7432420741181935873.html
END:VEVENT
BEGIN:VEVENT
UID:20260419T133454Z-7432420741244850435@staging.eventfrog.dev
DTSTAMP:20260419T133454Z
DTSTART:20260422T061500Z
DTEND:20260422T131000Z
SUMMARY:Attraktion erstellen ohne Ticketing
DESCRIPTION:Hier wird geprüft: Attraktion erstellen ohne Ticketing. Eine einfach Attraktion ohne viel Schnick Schnack und Firlefanz\n\nhttps://staging.eventfrog.dev/de/p/diverses/attraktion-erstellen-ohne-ticketing-7432420741244850435.html
LOCATION:Olten 22
GEO:47.350310;7.909900
URL:https://staging.eventfrog.dev/de/p/diverses/attraktion-erstellen-ohne-ticketing-7432420741244850435.html
END:VEVENT
BEGIN:VEVENT
UID:20260419T133454Z-7432420741311959301@staging.eventfrog.dev
DTSTAMP:20260419T133454Z
DTSTART:20260424T083000Z
DTEND:20260424T133000Z
SUMMARY:Attraktion erstellen ohne Ticketing
DESCRIPTION:Hier wird geprüft: Attraktion erstellen ohne Ticketing. Eine einfach Attraktion ohne viel Schnick Schnack und Firlefanz\n\nhttps://staging.eventfrog.dev/de/p/diverses/attraktion-erstellen-ohne-ticketing-7432420741311959301.html
LOCATION:Olten 22
GEO:47.350310;7.909900
URL:https://staging.eventfrog.dev/de/p/diverses/attraktion-erstellen-ohne-ticketing-7432420741311959301.html
END:VEVENT
BEGIN:VEVENT
UID:20260419T133454Z-7432420741387456775@staging.eventfrog.dev
DTSTAMP:20260419T133454Z
DTSTART:20260427T061500Z
DTEND:20260427T081500Z
SUMMARY:Attraktion erstellen ohne Ticketing
DESCRIPTION:Hier wird geprüft: Attraktion erstellen ohne Ticketing. Eine einfach Attraktion ohne viel Schnick Schnack und Firlefanz\n\nhttps://staging.eventfrog.dev/de/p/diverses/attraktion-erstellen-ohne-ticketing-7432420741387456775.html
LOCATION:Olten 22
GEO:47.350310;7.909900
URL:https://staging.eventfrog.dev/de/p/diverses/attraktion-erstellen-ohne-ticketing-7432420741387456775.html
END:VEVENT
BEGIN:VEVENT
UID:20260419T133454Z-7432420741454565641@staging.eventfrog.dev
DTSTAMP:20260419T133454Z
DTSTART:20260429T061500Z
DTEND:20260429T131000Z
SUMMARY:Attraktion erstellen ohne Ticketing
DESCRIPTION:Hier wird geprüft: Attraktion erstellen ohne Ticketing. Eine einfach Attraktion ohne viel Schnick Schnack und Firlefanz\n\nhttps://staging.eventfrog.dev/de/p/diverses/attraktion-erstellen-ohne-ticketing-7432420741454565641.html
LOCATION:Olten 22
GEO:47.350310;7.909900
URL:https://staging.eventfrog.dev/de/p/diverses/attraktion-erstellen-ohne-ticketing-7432420741454565641.html
END:VEVENT
BEGIN:VEVENT
UID:20260419T133454Z-7432420741517480203@staging.eventfrog.dev
DTSTAMP:20260419T133454Z
DTSTART:20260501T083000Z
DTEND:20260501T133000Z
SUMMARY:Attraktion erstellen ohne Ticketing
DESCRIPTION:Hier wird geprüft: Attraktion erstellen ohne Ticketing. Eine einfach Attraktion ohne viel Schnick Schnack und Firlefanz\n\nhttps://staging.eventfrog.dev/de/p/diverses/attraktion-erstellen-ohne-ticketing-7432420741517480203.html
LOCATION:Olten 22
GEO:47.350310;7.909900
URL:https://staging.eventfrog.dev/de/p/diverses/attraktion-erstellen-ohne-ticketing-7432420741517480203.html
END:VEVENT
BEGIN:VEVENT
UID:20260419T133454Z-7432420741588783373@staging.eventfrog.dev
DTSTAMP:20260419T133454Z
DTSTART:20260504T061500Z
DTEND:20260504T081500Z
SUMMARY:Attraktion erstellen ohne Ticketing
DESCRIPTION:Hier wird geprüft: Attraktion erstellen ohne Ticketing. Eine einfach Attraktion ohne viel Schnick Schnack und Firlefanz\n\nhttps://staging.eventfrog.dev/de/p/diverses/attraktion-erstellen-ohne-ticketing-7432420741588783373.html
LOCATION:Olten 22
GEO:47.350310;7.909900
URL:https://staging.eventfrog.dev/de/p/diverses/attraktion-erstellen-ohne-ticketing-7432420741588783373.html
END:VEVENT
BEGIN:VEVENT
UID:20260419T133454Z-7432420741655892239@staging.eventfrog.dev
DTSTAMP:20260419T133454Z
DTSTART:20260506T061500Z
DTEND:20260506T131000Z
SUMMARY:Attraktion erstellen ohne Ticketing
DESCRIPTION:Hier wird geprüft: Attraktion erstellen ohne Ticketing. Eine einfach Attraktion ohne viel Schnick Schnack und Firlefanz\n\nhttps://staging.eventfrog.dev/de/p/diverses/attraktion-erstellen-ohne-ticketing-7432420741655892239.html
LOCATION:Olten 22
GEO:47.350310;7.909900
URL:https://staging.eventfrog.dev/de/p/diverses/attraktion-erstellen-ohne-ticketing-7432420741655892239.html
END:VEVENT
BEGIN:VEVENT
UID:20260419T133454Z-7432420741723001105@staging.eventfrog.dev
DTSTAMP:20260419T133454Z
DTSTART:20260508T083000Z
DTEND:20260508T133000Z
SUMMARY:Attraktion erstellen ohne Ticketing
DESCRIPTION:Hier wird geprüft: Attraktion erstellen ohne Ticketing. Eine einfach Attraktion ohne viel Schnick Schnack und Firlefanz\n\nhttps://staging.eventfrog.dev/de/p/diverses/attraktion-erstellen-ohne-ticketing-7432420741723001105.html
LOCATION:Olten 22
GEO:47.350310;7.909900
URL:https://staging.eventfrog.dev/de/p/diverses/attraktion-erstellen-ohne-ticketing-7432420741723001105.html
END:VEVENT
BEGIN:VEVENT
UID:20260419T133454Z-7432420741790109971@staging.eventfrog.dev
DTSTAMP:20260419T133454Z
DTSTART:20260511T061500Z
DTEND:20260511T081500Z
SUMMARY:Attraktion erstellen ohne Ticketing
DESCRIPTION:Hier wird geprüft: Attraktion erstellen ohne Ticketing. Eine einfach Attraktion ohne viel Schnick Schnack und Firlefanz\n\nhttps://staging.eventfrog.dev/de/p/diverses/attraktion-erstellen-ohne-ticketing-7432420741790109971.html
LOCATION:Olten 22
GEO:47.350310;7.909900
URL:https://staging.eventfrog.dev/de/p/diverses/attraktion-erstellen-ohne-ticketing-7432420741790109971.html
END:VEVENT
BEGIN:VEVENT
UID:20260419T133454Z-7432420741869801749@staging.eventfrog.dev
DTSTAMP:20260419T133454Z
DTSTART:20260513T061500Z
DTEND:20260513T131000Z
SUMMARY:Attraktion erstellen ohne Ticketing
DESCRIPTION:Hier wird geprüft: Attraktion erstellen ohne Ticketing. Eine einfach Attraktion ohne viel Schnick Schnack und Firlefanz\n\nhttps://staging.eventfrog.dev/de/p/diverses/attraktion-erstellen-ohne-ticketing-7432420741869801749.html
LOCATION:Olten 22
GEO:47.350310;7.909900
URL:https://staging.eventfrog.dev/de/p/diverses/attraktion-erstellen-ohne-ticketing-7432420741869801749.html
END:VEVENT
BEGIN:VEVENT
UID:20260419T133454Z-7432420741941104919@staging.eventfrog.dev
DTSTAMP:20260419T133454Z
DTSTART:20260515T083000Z
DTEND:20260515T133000Z
SUMMARY:Attraktion erstellen ohne Ticketing
DESCRIPTION:Hier wird geprüft: Attraktion erstellen ohne Ticketing. Eine einfach Attraktion ohne viel Schnick Schnack und Firlefanz\n\nhttps://staging.eventfrog.dev/de/p/diverses/attraktion-erstellen-ohne-ticketing-7432420741941104919.html
LOCATION:Olten 22
GEO:47.350310;7.909900
URL:https://staging.eventfrog.dev/de/p/diverses/attraktion-erstellen-ohne-ticketing-7432420741941104919.html
END:VEVENT
BEGIN:VEVENT
UID:20260419T133454Z-7432420742628970777@staging.eventfrog.dev
DTSTAMP:20260419T133454Z
DTSTART:20260518T061500Z
DTEND:20260518T081500Z
SUMMARY:Attraktion erstellen ohne Ticketing
DESCRIPTION:Hier wird geprüft: Attraktion erstellen ohne Ticketing. Eine einfach Attraktion ohne viel Schnick Schnack und Firlefanz\n\nhttps://staging.eventfrog.dev/de/p/diverses/attraktion-erstellen-ohne-ticketing-7432420742628970777.html
LOCATION:Olten 22
GEO:47.350310;7.909900
URL:https://staging.eventfrog.dev/de/p/diverses/attraktion-erstellen-ohne-ticketing-7432420742628970777.html
END:VEVENT
BEGIN:VEVENT
UID:20260419T133454Z-7432420742721245467@staging.eventfrog.dev
DTSTAMP:20260419T133454Z
DTSTART:20260520T061500Z
DTEND:20260520T131000Z
SUMMARY:Attraktion erstellen ohne Ticketing
DESCRIPTION:Hier wird geprüft: Attraktion erstellen ohne Ticketing. Eine einfach Attraktion ohne viel Schnick Schnack und Firlefanz\n\nhttps://staging.eventfrog.dev/de/p/diverses/attraktion-erstellen-ohne-ticketing-7432420742721245467.html
LOCATION:Olten 22
GEO:47.350310;7.909900
URL:https://staging.eventfrog.dev/de/p/diverses/attraktion-erstellen-ohne-ticketing-7432420742721245467.html
END:VEVENT
BEGIN:VEVENT
UID:20260419T133454Z-7432420742800937245@staging.eventfrog.dev
DTSTAMP:20260419T133454Z
DTSTART:20260522T083000Z
DTEND:20260522T133000Z
SUMMARY:Attraktion erstellen ohne Ticketing
DESCRIPTION:Hier wird geprüft: Attraktion erstellen ohne Ticketing. Eine einfach Attraktion ohne viel Schnick Schnack und Firlefanz\n\nhttps://staging.eventfrog.dev/de/p/diverses/attraktion-erstellen-ohne-ticketing-7432420742800937245.html
LOCATION:Olten 22
GEO:47.350310;7.909900
URL:https://staging.eventfrog.dev/de/p/diverses/attraktion-erstellen-ohne-ticketing-7432420742800937245.html
END:VEVENT
BEGIN:VEVENT
UID:20260419T133454Z-7432420742868046111@staging.eventfrog.dev
DTSTAMP:20260419T133454Z
DTSTART:20260525T061500Z
DTEND:20260525T081500Z
SUMMARY:Attraktion erstellen ohne Ticketing
DESCRIPTION:Hier wird geprüft: Attraktion erstellen ohne Ticketing. Eine einfach Attraktion ohne viel Schnick Schnack und Firlefanz\n\nhttps://staging.eventfrog.dev/de/p/diverses/attraktion-erstellen-ohne-ticketing-7432420742868046111.html
LOCATION:Olten 22
GEO:47.350310;7.909900
URL:https://staging.eventfrog.dev/de/p/diverses/attraktion-erstellen-ohne-ticketing-7432420742868046111.html
END:VEVENT
BEGIN:VEVENT
UID:20260419T133454Z-7432420742930960673@staging.eventfrog.dev
DTSTAMP:20260419T133454Z
DTSTART:20260527T061500Z
DTEND:20260527T131000Z
SUMMARY:Attraktion erstellen ohne Ticketing
DESCRIPTION:Hier wird geprüft: Attraktion erstellen ohne Ticketing. Eine einfach Attraktion ohne viel Schnick Schnack und Firlefanz\n\nhttps://staging.eventfrog.dev/de/p/diverses/attraktion-erstellen-ohne-ticketing-7432420742930960673.html
LOCATION:Olten 22
GEO:47.350310;7.909900
URL:https://staging.eventfrog.dev/de/p/diverses/attraktion-erstellen-ohne-ticketing-7432420742930960673.html
END:VEVENT
BEGIN:VEVENT
UID:20260419T133454Z-7432420743002263843@staging.eventfrog.dev
DTSTAMP:20260419T133454Z
DTSTART:20260529T083000Z
DTEND:20260529T133000Z
SUMMARY:Attraktion erstellen ohne Ticketing
DESCRIPTION:Hier wird geprüft: Attraktion erstellen ohne Ticketing. Eine einfach Attraktion ohne viel Schnick Schnack und Firlefanz\n\nhttps://staging.eventfrog.dev/de/p/diverses/attraktion-erstellen-ohne-ticketing-7432420743002263843.html
LOCATION:Olten 22
GEO:47.350310;7.909900
URL:https://staging.eventfrog.dev/de/p/diverses/attraktion-erstellen-ohne-ticketing-7432420743002263843.html
END:VEVENT
END:VCALENDAR