BEGIN:VCALENDAR
VERSION:2.0
PRODID:EVENTFROG//EVENT//ICAL
BEGIN:VEVENT
UID:20260419T151725Z-7444740546400478008@staging.eventfrog.dev
DTSTAMP:20260419T151725Z
DTSTART:20260520T220000Z
SUMMARY:Anti‑Kläff‑Kurs für laute Vierbeiner
DESCRIPTION:Im Workshop lernen Hundehalter, mit alltagstauglichen Methoden ihren bellfreudigen Hund zu mehr Gelassenheit zu führen.\n\nhttps://staging.eventfrog.dev/de/p/essen-trinken/antiklaeffkurs-fuer-laute-vierbeiner-7444740546400478008.html
LOCATION:Haus am See
GEO:47.334851;7.842260
URL:https://staging.eventfrog.dev/de/p/essen-trinken/antiklaeffkurs-fuer-laute-vierbeiner-7444740546400478008.html
END:VEVENT
END:VCALENDAR