BEGIN:VCALENDAR
VERSION:2.0
PRODID:EVENTFROG//EVENT//ICAL
BEGIN:VEVENT
UID:20260419T133511Z-7444726145320613667@staging.eventfrog.dev
DTSTAMP:20260419T133511Z
DTSTART:20260428T180000Z
SUMMARY:987148 Froggy prüft: Ticketing-Event, nur Pflichtfelder
DESCRIPTION:Hier prüfen wir, ob die Eventerstellung wie erwartet funktioniert.\n\nhttps://staging.eventfrog.dev/de/p/diverses/987148-froggy-prueft-ticketing-event-nur-pflichtfelder-7444726145320613667.html
LOCATION:4600 Olten
GEO:47.348225;7.903010
URL:https://staging.eventfrog.dev/de/p/diverses/987148-froggy-prueft-ticketing-event-nur-pflichtfelder-7444726145320613667.html
END:VEVENT
END:VCALENDAR