BEGIN:VCALENDAR
VERSION:2.0
PRODID:EVENTFROG//EVENT//ICAL
BEGIN:VEVENT
UID:20260419T151724Z-7444314809512077857@staging.eventfrog.dev
DTSTAMP:20260419T151724Z
DTSTART:20260830T220000Z
SUMMARY:Mit den besten und erfolgreichsten Slampoet:innen im Kampf u
DESCRIPTION:Tennis, Padel, Squash\n\nhttps://staging.eventfrog.dev/de/p/diverses/mit-den-besten-und-erfolgreichsten-slampoet-innen-im-kampf-u-7444314809512077857.html
LOCATION:Büro
GEO:47.349849;7.909825
URL:https://staging.eventfrog.dev/de/p/diverses/mit-den-besten-und-erfolgreichsten-slampoet-innen-im-kampf-u-7444314809512077857.html
END:VEVENT
END:VCALENDAR