BEGIN:VCALENDAR
VERSION:2.0
PRODID:EVENTFROG//EVENT//ICAL
BEGIN:VEVENT
UID:20260419T151737Z-7435655370886175780@staging.eventfrog.dev
DTSTAMP:20260419T151737Z
DTSTART:20270331T180000Z
DTEND:20270331T200000Z
SUMMARY:Kino-Sushi 2
DESCRIPTION:Kinoabend mit all-you-can-eat Sushi bietet Unterhaltung und Genuss für Film- und Sushi-Fans zugleich.\n\nhttps://staging.eventfrog.dev/de/p/freizeit-ausfluege/film-kino/kino-sushi-2-7435655370886175780.html
LOCATION:Stadttheater Olten
GEO:47.351990;7.904446
URL:https://staging.eventfrog.dev/de/p/freizeit-ausfluege/film-kino/kino-sushi-2-7435655370886175780.html
END:VEVENT
END:VCALENDAR