BEGIN:VCALENDAR
VERSION:2.0
PRODID:EVENTFROG//EVENT//ICAL
BEGIN:VEVENT
UID:20260419T165335Z-7435348535515929071@staging.eventfrog.dev
DTSTAMP:20260419T165335Z
DTSTART:20271231T190000Z
SUMMARY:Event erstellen: mit Ticketing, nur Pflichtfelder
DESCRIPTION:Hier wird geprüft, Event erstellen: mit Ticketing, nur Pflichtfelder wie erwartet funktioniert.\n\nhttps://staging.eventfrog.dev/de/p/diverses/event-erstellen-mit-ticketing-nur-pflichtfelder-7435348535515929071.html
LOCATION:Olten 22
GEO:47.350310;7.909900
URL:https://staging.eventfrog.dev/de/p/diverses/event-erstellen-mit-ticketing-nur-pflichtfelder-7435348535515929071.html
END:VEVENT
END:VCALENDAR