BEGIN:VCALENDAR
VERSION:2.0
PRODID:EVENTFROG//EVENT//ICAL
BEGIN:VEVENT
UID:20260419T133512Z-7434959561563645644@staging.eventfrog.dev
DTSTAMP:20260419T133512Z
DTSTART:20260425T220000Z
SUMMARY:Kaffekränzchen im Kino
DESCRIPTION:Das Wanderkino Lumenia entführt in einer Sommernacht mit Popcorn und filmischen Illusionen in eine magische Welt zwischen Realität und Film.\n\nhttps://staging.eventfrog.dev/de/p/essen-trinken/kaffekraenzchen-im-kino-7434959561563645644.html
LOCATION:Kunstmuseum Bern
GEO:46.951000;7.443570
URL:https://staging.eventfrog.dev/de/p/essen-trinken/kaffekraenzchen-im-kino-7434959561563645644.html
END:VEVENT
END:VCALENDAR