BEGIN:VCALENDAR
VERSION:2.0
PRODID:EVENTFROG//EVENT//ICAL
BEGIN:VEVENT
UID:20260419T151738Z-7433071355914215757@staging.eventfrog.dev
DTSTAMP:20260419T151738Z
DTSTART:20260512T100000Z
DTEND:20260512T130000Z
SUMMARY:Die Bunten Seiten des Lebens geniessen - Activ-Painting Kurs
DESCRIPTION:Activ-Painting-Kurs vermittelt intuitives Malen in entspannter Atmosphäre ohne Fokus auf Perfektion.\n\nhttps://staging.eventfrog.dev/de/p/kurse-seminare/coaching/die-bunten-seiten-des-lebens-geniessen-activ-painting-kurs-7433071355914215757.html
LOCATION:Haus am See
GEO:47.334851;7.842260
URL:https://staging.eventfrog.dev/de/p/kurse-seminare/coaching/die-bunten-seiten-des-lebens-geniessen-activ-painting-kurs-7433071355914215757.html
END:VEVENT
END:VCALENDAR