BEGIN:VCALENDAR
VERSION:2.0
PRODID:EVENTFROG//EVENT//ICAL
BEGIN:VEVENT
UID:20260419T151737Z-7406644910702799401@staging.eventfrog.dev
DTSTAMP:20260419T151737Z
DTSTART:20261030T230000Z
SUMMARY:FRIENDSLIST
DESCRIPTION:-\n\nhttps://staging.eventfrog.dev/de/p/sport-fitness/handball/friendslist-7406644910702799401.html
LOCATION:test
GEO:47.411734;8.496669
URL:https://staging.eventfrog.dev/de/p/sport-fitness/handball/friendslist-7406644910702799401.html
END:VEVENT
END:VCALENDAR